{"text_format":"1","workbook":"xlsx","n_sheets":2,"sheets":["Standen Programma","Finale Kaarten"],"not_rendered":{"charts":0,"images":0,"macros":1,"external_links":0,"defined_names":1,"comments":0,"pivot_tables":0},"unopened":[],"bounds":{"document_bytes":16777216,"sheet_cells":100000,"rows_first":2000,"rows_last":500,"rows_between":2000,"halvings":0,"cell_chars":16384,"cell_head_chars":4096},"cells_cut":0,"cells_raw":0,"read":"whole","date_system":"1900"}

{"sheet":"Standen Programma","index":0,"n_rows":268,"n_cols":16,"rows_kept":268,"cut":false,"hidden":false,"merged":[]}
["Stand","Naam","Inschrijf nr.","1e Hoogste","2e Hoogste","3e Hoogste","Eindstand","Gemiddelde","1e Kaart","2e Kaart","3e Kaart","4e Kaart","5e Kaart","6e Kaart","7e Kaart","8e Kaart"]
[null,"Klasse A "]
[null,"140.01 en hoger"]
[1,"Wim Kiwiet",20,{"$f":"LARGE(I4:P4,1)","v":732},{"$f":"LARGE(I4:P4,2)","v":730},{"$f":"LARGE(I4:P4,3)","v":724},{"$f":"SUM(D4:F4)","v":2186},{"$f":"IF(E4<1,(G4/5),IF(F4<1,(G4/10),IF(F4>1,(G4/15))))","v":145.73333333333332},730,659,732,699,724,700]
[2,"Siem Oostenbrink",52,{"$f":"LARGE(I5:P5,1)","v":732},{"$f":"LARGE(I5:P5,2)","v":724},{"$f":"LARGE(I5:P5,3)","v":716},{"$f":"SUM(D5:F5)","v":2172},{"$f":"IF(E5<1,(G5/5),IF(F5<1,(G5/10),IF(F5>1,(G5/15))))","v":144.80000000000001},724,732,652,716,657]
[3,"Hetty Kleine",62,{"$f":"LARGE(I6:P6,1)","v":724},{"$f":"LARGE(I6:P6,2)","v":724},{"$f":"LARGE(I6:P6,3)","v":723},{"$f":"SUM(D6:F6)","v":2171},{"$f":"IF(E6<1,(G6/5),IF(F6<1,(G6/10),IF(F6>1,(G6/15))))","v":144.73333333333332},724,723,706,724]
[4,"Jarno Langerak",31,{"$f":"LARGE(I7:P7,1)","v":724},{"$f":"LARGE(I7:P7,2)","v":724},{"$f":"LARGE(I7:P7,3)","v":722},{"$f":"SUM(D7:F7)","v":2170},{"$f":"IF(E7<1,(G7/5),IF(F7<1,(G7/10),IF(F7>1,(G7/15))))","v":144.66666666666666},722,708,724,680,693,724]
[5,"Herman Depenbrock",40,{"$f":"LARGE(I8:P8,1)","v":732},{"$f":"LARGE(I8:P8,2)","v":715},{"$f":"LARGE(I8:P8,3)","v":709},{"$f":"SUM(D8:F8)","v":2156},{"$f":"IF(E8<1,(G8/5),IF(F8<1,(G8/10),IF(F8>1,(G8/15))))","v":143.73333333333332},709,708,715,732,668]
[6,"Sjaak de Vries",57,{"$f":"LARGE(I9:P9,1)","v":709},{"$f":"LARGE(I9:P9,2)","v":708},{"$f":"LARGE(I9:P9,3)","v":703},{"$f":"SUM(D9:F9)","v":2120},{"$f":"IF(E9<1,(G9/5),IF(F9<1,(G9/10),IF(F9>1,(G9/15))))","v":141.33333333333334},690,709,708,703]
[7,"Jan Postma",58,{"$f":"LARGE(I10:P10,1)","v":738},{"$f":"LARGE(I10:P10,2)","v":687},{"$f":"LARGE(I10:P10,3)","v":686},{"$f":"SUM(D10:F10)","v":2111},{"$f":"IF(E10<1,(G10/5),IF(F10<1,(G10/10),IF(F10>1,(G10/15))))","v":140.73333333333332},687,738,686]
[8,"Heidi Hop",34,{"$f":"LARGE(I11:P11,1)","v":720},{"$f":"LARGE(I11:P11,2)","v":701},{"$f":"LARGE(I11:P11,3)","v":681},{"$f":"SUM(D11:F11)","v":2102},{"$f":"IF(E11<1,(G11/5),IF(F11<1,(G11/10),IF(F11>1,(G11/15))))","v":140.13333333333333},720,701,660,670,681]
[9,"Harry Beekman",54,{"$f":"LARGE(I12:P12,1)","v":687},{"$f":"LARGE(I12:P12,2)","v":677},{"$f":"LARGE(I12:P12,3)","v":669},{"$f":"SUM(D12:F12)","v":2033},{"$f":"IF(E12<1,(G12/5),IF(F12<1,(G12/10),IF(F12>1,(G12/15))))","v":135.53333333333333},677,687,669]
[10,"Bea Sneller",56,{"$f":"LARGE(I13:P13,1)","v":700},{"$f":"LARGE(I13:P13,2)","v":674},{"$f":"LARGE(I13:P13,3)","v":658},{"$f":"SUM(D13:F13)","v":2032},{"$f":"IF(E13<1,(G13/5),IF(F13<1,(G13/10),IF(F13>1,(G13/15))))","v":135.46666666666667},700,635,674,658]
[11,"Hendry Wibiér",60,{"$f":"LARGE(I14:P14,1)","v":690},{"$f":"LARGE(I14:P14,2)","v":668},{"$f":"LARGE(I14:P14,3)","v":655},{"$f":"SUM(D14:F14)","v":2013},{"$f":"IF(E14<1,(G14/5),IF(F14<1,(G14/10),IF(F14>1,(G14/15))))","v":134.19999999999999},668,690,655]
[12,"Rinie Strank",27,{"$f":"LARGE(I15:P15,1)","v":670},{"$f":"LARGE(I15:P15,2)","v":633},{"$f":"LARGE(I15:P15,3)","v":594},{"$f":"SUM(D15:F15)","v":1897},{"$f":"IF(E15<1,(G15/5),IF(F15<1,(G15/10),IF(F15>1,(G15/15))))","v":126.46666666666667},594,633,670]
[13,null,null,{"$f":"LARGE(I16:P16,1)","v":0},{"$f":"LARGE(I16:P16,2)","v":0},{"$f":"LARGE(I16:P16,3)","v":0},{"$f":"SUM(D16:F16)","v":0},{"$f":"IF(E16<1,(G16/5),IF(F16<1,(G16/10),IF(F16>1,(G16/15))))","v":0},0,0,0]
[14,null,null,{"$f":"LARGE(I17:P17,1)","v":0},{"$f":"LARGE(I17:P17,2)","v":0},{"$f":"LARGE(I17:P17,3)","v":0},{"$f":"SUM(D17:F17)","v":0},{"$f":"IF(E17<1,(G17/5),IF(F17<1,(G17/10),IF(F17>1,(G17/15))))","v":0},0,0,0]
[15,null,null,{"$f":"LARGE(I18:P18,1)","v":0},{"$f":"LARGE(I18:P18,2)","v":0},{"$f":"LARGE(I18:P18,3)","v":0},{"$f":"SUM(D18:F18)","v":0},{"$f":"IF(E18<1,(G18/5),IF(F18<1,(G18/10),IF(F18>1,(G18/15))))","v":0},0,0,0]
[16,null,null,{"$f":"LARGE(I19:P19,1)","v":0},{"$f":"LARGE(I19:P19,2)","v":0},{"$f":"LARGE(I19:P19,3)","v":0},{"$f":"SUM(D19:F19)","v":0},{"$f":"IF(E19<1,(G19/5),IF(F19<1,(G19/10),IF(F19>1,(G19/15))))","v":0},0,0,0]
[17,null,null,{"$f":"LARGE(I20:P20,1)","v":0},{"$f":"LARGE(I20:P20,2)","v":0},{"$f":"LARGE(I20:P20,3)","v":0},{"$f":"SUM(D20:F20)","v":0},{"$f":"IF(E20<1,(G20/5),IF(F20<1,(G20/10),IF(F20>1,(G20/15))))","v":0},0,0,0]
[18,null,null,{"$f":"LARGE(I21:P21,1)","v":0},{"$f":"LARGE(I21:P21,2)","v":0},{"$f":"LARGE(I21:P21,3)","v":0},{"$f":"SUM(D21:F21)","v":0},{"$f":"IF(E21<1,(G21/5),IF(F21<1,(G21/10),IF(F21>1,(G21/15))))","v":0},0,0,0]
[19,null,null,{"$f":"LARGE(I22:P22,1)","v":0},{"$f":"LARGE(I22:P22,2)","v":0},{"$f":"LARGE(I22:P22,3)","v":0},{"$f":"SUM(D22:F22)","v":0},{"$f":"IF(E22<1,(G22/5),IF(F22<1,(G22/10),IF(F22>1,(G22/15))))","v":0},0,0,0]
[20,null,null,{"$f":"LARGE(I23:P23,1)","v":0},{"$f":"LARGE(I23:P23,2)","v":0},{"$f":"LARGE(I23:P23,3)","v":0},{"$f":"SUM(D23:F23)","v":0},{"$f":"IF(E23<1,(G23/5),IF(F23<1,(G23/10),IF(F23>1,(G23/15))))","v":0},0,0,0]
[21,null,null,{"$f":"LARGE(I24:P24,1)","v":0},{"$f":"LARGE(I24:P24,2)","v":0},{"$f":"LARGE(I24:P24,3)","v":0},{"$f":"SUM(D24:F24)","v":0},{"$f":"IF(E24<1,(G24/5),IF(F24<1,(G24/10),IF(F24>1,(G24/15))))","v":0},0,0,0]
[22,null,null,{"$f":"LARGE(I25:P25,1)","v":0},{"$f":"LARGE(I25:P25,2)","v":0},{"$f":"LARGE(I25:P25,3)","v":0},{"$f":"SUM(D25:F25)","v":0},{"$f":"IF(E25<1,(G25/5),IF(F25<1,(G25/10),IF(F25>1,(G25/15))))","v":0},0,0,0]
[23,null,null,{"$f":"LARGE(I26:P26,1)","v":0},{"$f":"LARGE(I26:P26,2)","v":0},{"$f":"LARGE(I26:P26,3)","v":0},{"$f":"SUM(D26:F26)","v":0},{"$f":"IF(E26<1,(G26/5),IF(F26<1,(G26/10),IF(F26>1,(G26/15))))","v":0},0,0,0]
[24,null,null,{"$f":"LARGE(I27:P27,1)","v":0},{"$f":"LARGE(I27:P27,2)","v":0},{"$f":"LARGE(I27:P27,3)","v":0},{"$f":"SUM(D27:F27)","v":0},{"$f":"IF(E27<1,(G27/5),IF(F27<1,(G27/10),IF(F27>1,(G27/15))))","v":0},0,0,0]
[25,null,null,{"$f":"LARGE(I28:P28,1)","v":0},{"$f":"LARGE(I28:P28,2)","v":0},{"$f":"LARGE(I28:P28,3)","v":0},{"$f":"SUM(D28:F28)","v":0},{"$f":"IF(E28<1,(G28/5),IF(F28<1,(G28/10),IF(F28>1,(G28/15))))","v":0},0,0,0]
[null,"Klasse B"]
[null,"135.01 - 140"]
[1,"Theo v d Ree Dolaard",38,{"$f":"LARGE(I31:P31,1)","v":708},{"$f":"LARGE(I31:P31,2)","v":695},{"$f":"LARGE(I31:P31,3)","v":688},{"$f":"SUM(D31:F31)","v":2091},{"$f":"IF(E31<1,(G31/5),IF(F31<1,(G31/10),IF(F31>1,(G31/15))))","v":139.4},688,683,669,649,708,695]
[2,"Hans Heusinkveld",9,{"$f":"LARGE(I32:P32,1)","v":720},{"$f":"LARGE(I32:P32,2)","v":694},{"$f":"LARGE(I32:P32,3)","v":670},{"$f":"SUM(D32:F32)","v":2084},{"$f":"IF(E32<1,(G32/5),IF(F32<1,(G32/10),IF(F32>1,(G32/15))))","v":138.93333333333334},670,720,659,694]
[3,"Wim Dunning",30,{"$f":"LARGE(I33:P33,1)","v":693},{"$f":"LARGE(I33:P33,2)","v":684},{"$f":"LARGE(I33:P33,3)","v":670},{"$f":"SUM(D33:F33)","v":2047},{"$f":"IF(E33<1,(G33/5),IF(F33<1,(G33/10),IF(F33>1,(G33/15))))","v":136.46666666666667},684,670,647,630,693,666]
[4,"Janny Koops",46,{"$f":"LARGE(I34:P34,1)","v":697},{"$f":"LARGE(I34:P34,2)","v":661},{"$f":"LARGE(I34:P34,3)","v":655},{"$f":"SUM(D34:F34)","v":2013},{"$f":"IF(E34<1,(G34/5),IF(F34<1,(G34/10),IF(F34>1,(G34/15))))","v":134.19999999999999},661,697,633,655,610]
[5,"Marissa Tolsma",69,{"$f":"LARGE(I35:P35,1)","v":681},{"$f":"LARGE(I35:P35,2)","v":665},{"$f":"LARGE(I35:P35,3)","v":649},{"$f":"SUM(D35:F35)","v":1995},{"$f":"IF(E35<1,(G35/5),IF(F35<1,(G35/10),IF(F35>1,(G35/15))))","v":133},630,649,665,681]
[6,"Jaap Huisman",63,{"$f":"LARGE(I36:P36,1)","v":620},{"$f":"LARGE(I36:P36,2)","v":0},{"$f":"LARGE(I36:P36,3)","v":0},{"$f":"SUM(D36:F36)","v":620},{"$f":"IF(E36<1,(G36/5),IF(F36<1,(G36/10),IF(F36>1,(G36/15))))","v":124},620,0,0]
[7,null,null,{"$f":"LARGE(I37:P37,1)","v":0},{"$f":"LARGE(I37:P37,2)","v":0},{"$f":"LARGE(I37:P37,3)","v":0},{"$f":"SUM(D37:F37)","v":0},{"$f":"IF(E37<1,(G37/5),IF(F37<1,(G37/10),IF(F37>1,(G37/15))))","v":0},0,0,0]
[8,null,null,{"$f":"LARGE(I38:P38,1)","v":0},{"$f":"LARGE(I38:P38,2)","v":0},{"$f":"LARGE(I38:P38,3)","v":0},{"$f":"SUM(D38:F38)","v":0},{"$f":"IF(E38<1,(G38/5),IF(F38<1,(G38/10),IF(F38>1,(G38/15))))","v":0},0,0,0]
[9,null,null,{"$f":"LARGE(I39:P39,1)","v":0},{"$f":"LARGE(I39:P39,2)","v":0},{"$f":"LARGE(I39:P39,3)","v":0},{"$f":"SUM(D39:F39)","v":0},{"$f":"IF(E39<1,(G39/5),IF(F39<1,(G39/10),IF(F39>1,(G39/15))))","v":0},0,0,0]
[10,null,null,{"$f":"LARGE(I40:P40,1)","v":0},{"$f":"LARGE(I40:P40,2)","v":0},{"$f":"LARGE(I40:P40,3)","v":0},{"$f":"SUM(D40:F40)","v":0},{"$f":"IF(E40<1,(G40/5),IF(F40<1,(G40/10),IF(F40>1,(G40/15))))","v":0},0,0,0]
[11,null,null,{"$f":"LARGE(I41:P41,1)","v":0},{"$f":"LARGE(I41:P41,2)","v":0},{"$f":"LARGE(I41:P41,3)","v":0},{"$f":"SUM(D41:F41)","v":0},{"$f":"IF(E41<1,(G41/5),IF(F41<1,(G41/10),IF(F41>1,(G41/15))))","v":0},0,0,0]
[12,null,null,{"$f":"LARGE(I42:P42,1)","v":0},{"$f":"LARGE(I42:P42,2)","v":0},{"$f":"LARGE(I42:P42,3)","v":0},{"$f":"SUM(D42:F42)","v":0},{"$f":"IF(E42<1,(G42/5),IF(F42<1,(G42/10),IF(F42>1,(G42/15))))","v":0},0,0,0]
[13,null,null,{"$f":"LARGE(I43:P43,1)","v":0},{"$f":"LARGE(I43:P43,2)","v":0},{"$f":"LARGE(I43:P43,3)","v":0},{"$f":"SUM(D43:F43)","v":0},{"$f":"IF(E43<1,(G43/5),IF(F43<1,(G43/10),IF(F43>1,(G43/15))))","v":0},0,0,0]
[14,null,null,{"$f":"LARGE(I44:P44,1)","v":0},{"$f":"LARGE(I44:P44,2)","v":0},{"$f":"LARGE(I44:P44,3)","v":0},{"$f":"SUM(D44:F44)","v":0},{"$f":"IF(E44<1,(G44/5),IF(F44<1,(G44/10),IF(F44>1,(G44/15))))","v":0},0,0,0]
[15,null,null,{"$f":"LARGE(I45:P45,1)","v":0},{"$f":"LARGE(I45:P45,2)","v":0},{"$f":"LARGE(I45:P45,3)","v":0},{"$f":"SUM(D45:F45)","v":0},{"$f":"IF(E45<1,(G45/5),IF(F45<1,(G45/10),IF(F45>1,(G45/15))))","v":0},0,0,0]
[16,null,null,{"$f":"LARGE(I46:P46,1)","v":0},{"$f":"LARGE(I46:P46,2)","v":0},{"$f":"LARGE(I46:P46,3)","v":0},{"$f":"SUM(D46:F46)","v":0},{"$f":"IF(E46<1,(G46/5),IF(F46<1,(G46/10),IF(F46>1,(G46/15))))","v":0},0,0,0]
[17,null,null,{"$f":"LARGE(I47:P47,1)","v":0},{"$f":"LARGE(I47:P47,2)","v":0},{"$f":"LARGE(I47:P47,3)","v":0},{"$f":"SUM(D47:F47)","v":0},{"$f":"IF(E47<1,(G47/5),IF(F47<1,(G47/10),IF(F47>1,(G47/15))))","v":0},0,0,0]
[18,null,null,{"$f":"LARGE(I48:P48,1)","v":0},{"$f":"LARGE(I48:P48,2)","v":0},{"$f":"LARGE(I48:P48,3)","v":0},{"$f":"SUM(D48:F48)","v":0},{"$f":"IF(E48<1,(G48/5),IF(F48<1,(G48/10),IF(F48>1,(G48/15))))","v":0},0,0,0]
[19,null,null,{"$f":"LARGE(I49:P49,1)","v":0},{"$f":"LARGE(I49:P49,2)","v":0},{"$f":"LARGE(I49:P49,3)","v":0},{"$f":"SUM(D49:F49)","v":0},{"$f":"IF(E49<1,(G49/5),IF(F49<1,(G49/10),IF(F49>1,(G49/15))))","v":0},0,0,0]
[20,null,null,{"$f":"LARGE(I50:P50,1)","v":0},{"$f":"LARGE(I50:P50,2)","v":0},{"$f":"LARGE(I50:P50,3)","v":0},{"$f":"SUM(D50:F50)","v":0},{"$f":"IF(E50<1,(G50/5),IF(F50<1,(G50/10),IF(F50>1,(G50/15))))","v":0},0,0,0]
[21,null,null,{"$f":"LARGE(I51:P51,1)","v":0},{"$f":"LARGE(I51:P51,2)","v":0},{"$f":"LARGE(I51:P51,3)","v":0},{"$f":"SUM(D51:F51)","v":0},{"$f":"IF(E51<1,(G51/5),IF(F51<1,(G51/10),IF(F51>1,(G51/15))))","v":0},0,0,0]
[22,null,null,{"$f":"LARGE(I52:P52,1)","v":0},{"$f":"LARGE(I52:P52,2)","v":0},{"$f":"LARGE(I52:P52,3)","v":0},{"$f":"SUM(D52:F52)","v":0},{"$f":"IF(E52<1,(G52/5),IF(F52<1,(G52/10),IF(F52>1,(G52/15))))","v":0},0,0,0]
[23,null,null,{"$f":"LARGE(I53:P53,1)","v":0},{"$f":"LARGE(I53:P53,2)","v":0},{"$f":"LARGE(I53:P53,3)","v":0},{"$f":"SUM(D53:F53)","v":0},{"$f":"IF(E53<1,(G53/5),IF(F53<1,(G53/10),IF(F53>1,(G53/15))))","v":0},0,0,0]
[24,null,null,{"$f":"LARGE(I54:P54,1)","v":0},{"$f":"LARGE(I54:P54,2)","v":0},{"$f":"LARGE(I54:P54,3)","v":0},{"$f":"SUM(D54:F54)","v":0},{"$f":"IF(E54<1,(G54/5),IF(F54<1,(G54/10),IF(F54>1,(G54/15))))","v":0},0,0,0]
["Stand","Naam","Inschrijf nr.","1e Hoogste","2e Hoogste","3e Hoogste","Eindstand","Gemiddelde","1e Kaart","2e Kaart","3e Kaart","4e Kaart","5e Kaart","6e Kaart","7e Kaart","8e Kaart"]
[null,"Klasse C"]
[null,"130.01 - 135"]
[1,"Albert van Urk",48,{"$f":"LARGE(I58:P58,1)","v":699},{"$f":"LARGE(I58:P58,2)","v":684},{"$f":"LARGE(I58:P58,3)","v":679},{"$f":"SUM(D58:F58)","v":2062},{"$f":"IF(E58<1,(G58/5),IF(F58<1,(G58/10),IF(F58>1,(G58/15))))","v":137.46666666666667},664,679,672,684,699]
[2,"Iko van Elburg",51,{"$f":"LARGE(I59:P59,1)","v":697},{"$f":"LARGE(I59:P59,2)","v":685},{"$f":"LARGE(I59:P59,3)","v":666},{"$f":"SUM(D59:F59)","v":2048},{"$f":"IF(E59<1,(G59/5),IF(F59<1,(G59/10),IF(F59>1,(G59/15))))","v":136.53333333333333},697,664,685,666]
[3,"Henk Veldman",29,{"$f":"LARGE(I60:P60,1)","v":691},{"$f":"LARGE(I60:P60,2)","v":679},{"$f":"LARGE(I60:P60,3)","v":674},{"$f":"SUM(D60:F60)","v":2044},{"$f":"IF(E60<1,(G60/5),IF(F60<1,(G60/10),IF(F60>1,(G60/15))))","v":136.26666666666668},653,654,663,674,691,679]
[4,"Ronnie Zwiers",61,{"$f":"LARGE(I61:P61,1)","v":684},{"$f":"LARGE(I61:P61,2)","v":681},{"$f":"LARGE(I61:P61,3)","v":661},{"$f":"SUM(D61:F61)","v":2026},{"$f":"IF(E61<1,(G61/5),IF(F61<1,(G61/10),IF(F61>1,(G61/15))))","v":135.06666666666666},681,684,647,661]
[5,"Gert Loch",37,{"$f":"LARGE(I62:P62,1)","v":682},{"$f":"LARGE(I62:P62,2)","v":657},{"$f":"LARGE(I62:P62,3)","v":653},{"$f":"SUM(D62:F62)","v":1992},{"$f":"IF(E62<1,(G62/5),IF(F62<1,(G62/10),IF(F62>1,(G62/15))))","v":132.80000000000001},637,627,653,682,657,636]
[6,"Aly Beekman",55,{"$f":"LARGE(I63:P63,1)","v":668},{"$f":"LARGE(I63:P63,2)","v":656},{"$f":"LARGE(I63:P63,3)","v":617},{"$f":"SUM(D63:F63)","v":1941},{"$f":"IF(E63<1,(G63/5),IF(F63<1,(G63/10),IF(F63>1,(G63/15))))","v":129.4},617,656,668]
[7,null,null,{"$f":"LARGE(I64:P64,1)","v":0},{"$f":"LARGE(I64:P64,2)","v":0},{"$f":"LARGE(I64:P64,3)","v":0},{"$f":"SUM(D64:F64)","v":0},{"$f":"IF(E64<1,(G64/5),IF(F64<1,(G64/10),IF(F64>1,(G64/15))))","v":0},0,0,0]
[8,null,null,{"$f":"LARGE(I65:P65,1)","v":0},{"$f":"LARGE(I65:P65,2)","v":0},{"$f":"LARGE(I65:P65,3)","v":0},{"$f":"SUM(D65:F65)","v":0},{"$f":"IF(E65<1,(G65/5),IF(F65<1,(G65/10),IF(F65>1,(G65/15))))","v":0},0,0,0]
[9,null,null,{"$f":"LARGE(I66:P66,1)","v":0},{"$f":"LARGE(I66:P66,2)","v":0},{"$f":"LARGE(I66:P66,3)","v":0},{"$f":"SUM(D66:F66)","v":0},{"$f":"IF(E66<1,(G66/5),IF(F66<1,(G66/10),IF(F66>1,(G66/15))))","v":0},0,0,0]
[10,null,null,{"$f":"LARGE(I67:P67,1)","v":0},{"$f":"LARGE(I67:P67,2)","v":0},{"$f":"LARGE(I67:P67,3)","v":0},{"$f":"SUM(D67:F67)","v":0},{"$f":"IF(E67<1,(G67/5),IF(F67<1,(G67/10),IF(F67>1,(G67/15))))","v":0},0,0,0]
[11,null,null,{"$f":"LARGE(I68:P68,1)","v":0},{"$f":"LARGE(I68:P68,2)","v":0},{"$f":"LARGE(I68:P68,3)","v":0},{"$f":"SUM(D68:F68)","v":0},{"$f":"IF(E68<1,(G68/5),IF(F68<1,(G68/10),IF(F68>1,(G68/15))))","v":0},0,0,0]
[12,null,null,{"$f":"LARGE(I69:P69,1)","v":0},{"$f":"LARGE(I69:P69,2)","v":0},{"$f":"LARGE(I69:P69,3)","v":0},{"$f":"SUM(D69:F69)","v":0},{"$f":"IF(E69<1,(G69/5),IF(F69<1,(G69/10),IF(F69>1,(G69/15))))","v":0},0,0,0]
[13,null,null,{"$f":"LARGE(I70:P70,1)","v":0},{"$f":"LARGE(I70:P70,2)","v":0},{"$f":"LARGE(I70:P70,3)","v":0},{"$f":"SUM(D70:F70)","v":0},{"$f":"IF(E70<1,(G70/5),IF(F70<1,(G70/10),IF(F70>1,(G70/15))))","v":0},0,0,0]
[14,null,null,{"$f":"LARGE(I71:P71,1)","v":0},{"$f":"LARGE(I71:P71,2)","v":0},{"$f":"LARGE(I71:P71,3)","v":0},{"$f":"SUM(D71:F71)","v":0},{"$f":"IF(E71<1,(G71/5),IF(F71<1,(G71/10),IF(F71>1,(G71/15))))","v":0},0,0,0]
[15,null,null,{"$f":"LARGE(I72:P72,1)","v":0},{"$f":"LARGE(I72:P72,2)","v":0},{"$f":"LARGE(I72:P72,3)","v":0},{"$f":"SUM(D72:F72)","v":0},{"$f":"IF(E72<1,(G72/5),IF(F72<1,(G72/10),IF(F72>1,(G72/15))))","v":0},0,0,0]
[16,null,null,{"$f":"LARGE(I73:P73,1)","v":0},{"$f":"LARGE(I73:P73,2)","v":0},{"$f":"LARGE(I73:P73,3)","v":0},{"$f":"SUM(D73:F73)","v":0},{"$f":"IF(E73<1,(G73/5),IF(F73<1,(G73/10),IF(F73>1,(G73/15))))","v":0},0,0,0]
[17,null,null,{"$f":"LARGE(I74:P74,1)","v":0},{"$f":"LARGE(I74:P74,2)","v":0},{"$f":"LARGE(I74:P74,3)","v":0},{"$f":"SUM(D74:F74)","v":0},{"$f":"IF(E74<1,(G74/5),IF(F74<1,(G74/10),IF(F74>1,(G74/15))))","v":0},0,0,0]
[18,null,null,{"$f":"LARGE(I75:P75,1)","v":0},{"$f":"LARGE(I75:P75,2)","v":0},{"$f":"LARGE(I75:P75,3)","v":0},{"$f":"SUM(D75:F75)","v":0},{"$f":"IF(E75<1,(G75/5),IF(F75<1,(G75/10),IF(F75>1,(G75/15))))","v":0},0,0,0]
[19,null,null,{"$f":"LARGE(I76:P76,1)","v":0},{"$f":"LARGE(I76:P76,2)","v":0},{"$f":"LARGE(I76:P76,3)","v":0},{"$f":"SUM(D76:F76)","v":0},{"$f":"IF(E76<1,(G76/5),IF(F76<1,(G76/10),IF(F76>1,(G76/15))))","v":0},0,0,0]
[20,null,null,{"$f":"LARGE(I77:P77,1)","v":0},{"$f":"LARGE(I77:P77,2)","v":0},{"$f":"LARGE(I77:P77,3)","v":0},{"$f":"SUM(D77:F77)","v":0},{"$f":"IF(E77<1,(G77/5),IF(F77<1,(G77/10),IF(F77>1,(G77/15))))","v":0},0,0,0]
[21,null,null,{"$f":"LARGE(I78:P78,1)","v":0},{"$f":"LARGE(I78:P78,2)","v":0},{"$f":"LARGE(I78:P78,3)","v":0},{"$f":"SUM(D78:F78)","v":0},{"$f":"IF(E78<1,(G78/5),IF(F78<1,(G78/10),IF(F78>1,(G78/15))))","v":0},0,0,0]
[22,null,null,{"$f":"LARGE(I79:P79,1)","v":0},{"$f":"LARGE(I79:P79,2)","v":0},{"$f":"LARGE(I79:P79,3)","v":0},{"$f":"SUM(D79:F79)","v":0},{"$f":"IF(E79<1,(G79/5),IF(F79<1,(G79/10),IF(F79>1,(G79/15))))","v":0},0,0,0]
[23,null,null,{"$f":"LARGE(I80:P80,1)","v":0},{"$f":"LARGE(I80:P80,2)","v":0},{"$f":"LARGE(I80:P80,3)","v":0},{"$f":"SUM(D80:F80)","v":0},{"$f":"IF(E80<1,(G80/5),IF(F80<1,(G80/10),IF(F80>1,(G80/15))))","v":0},0,0,0]
[24,null,null,{"$f":"LARGE(I81:P81,1)","v":0},{"$f":"LARGE(I81:P81,2)","v":0},{"$f":"LARGE(I81:P81,3)","v":0},{"$f":"SUM(D81:F81)","v":0},{"$f":"IF(E81<1,(G81/5),IF(F81<1,(G81/10),IF(F81>1,(G81/15))))","v":0},0,0,0]
[25,null,null,{"$f":"LARGE(I82:P82,1)","v":0},{"$f":"LARGE(I82:P82,2)","v":0},{"$f":"LARGE(I82:P82,3)","v":0},{"$f":"SUM(D82:F82)","v":0},{"$f":"IF(E82<1,(G82/5),IF(F82<1,(G82/10),IF(F82>1,(G82/15))))","v":0},0,0,0]
[null,"Klasse D"]
[null,"125.01 - 130"]
[1,"Henk Ruitenberg",35,{"$f":"LARGE(I85:P85,1)","v":681},{"$f":"LARGE(I85:P85,2)","v":661},{"$f":"LARGE(I85:P85,3)","v":657},{"$f":"SUM(D85:F85)","v":1999},{"$f":"IF(E85<1,(G85/5),IF(F85<1,(G85/10),IF(F85>1,(G85/15))))","v":133.26666666666668},638,657,632,661,631,681]
[2,"Lammert Kiers",32,{"$f":"LARGE(I86:P86,1)","v":690},{"$f":"LARGE(I86:P86,2)","v":665},{"$f":"LARGE(I86:P86,3)","v":640},{"$f":"SUM(D86:F86)","v":1995},{"$f":"IF(E86<1,(G86/5),IF(F86<1,(G86/10),IF(F86>1,(G86/15))))","v":133},620,622,630,628,665,640,690]
[3,"Jaap Ploeger",49,{"$f":"LARGE(I87:P87,1)","v":668},{"$f":"LARGE(I87:P87,2)","v":656},{"$f":"LARGE(I87:P87,3)","v":651},{"$f":"SUM(D87:F87)","v":1975},{"$f":"IF(E87<1,(G87/5),IF(F87<1,(G87/10),IF(F87>1,(G87/15))))","v":131.66666666666666},668,651,656,615]
[4,"Hennie Kiers",33,{"$f":"LARGE(I88:P88,1)","v":614},{"$f":"LARGE(I88:P88,2)","v":612},{"$f":"LARGE(I88:P88,3)","v":593},{"$f":"SUM(D88:F88)","v":1819},{"$f":"IF(E88<1,(G88/5),IF(F88<1,(G88/10),IF(F88>1,(G88/15))))","v":121.26666666666667},612,511,586,593,614,583]
[5,"Henk Depenbrock",41,{"$f":"LARGE(I89:P89,1)","v":602},{"$f":"LARGE(I89:P89,2)","v":602},{"$f":"LARGE(I89:P89,3)","v":0},{"$f":"SUM(D89:F89)","v":1204},{"$f":"IF(E89<1,(G89/5),IF(F89<1,(G89/10),IF(F89>1,(G89/15))))","v":120.4},602,602,0]
[6,null,null,{"$f":"LARGE(I90:P90,1)","v":0},{"$f":"LARGE(I90:P90,2)","v":0},{"$f":"LARGE(I90:P90,3)","v":0},{"$f":"SUM(D90:F90)","v":0},{"$f":"IF(E90<1,(G90/5),IF(F90<1,(G90/10),IF(F90>1,(G90/15))))","v":0},0,0,0]
[7,null,null,{"$f":"LARGE(I91:P91,1)","v":0},{"$f":"LARGE(I91:P91,2)","v":0},{"$f":"LARGE(I91:P91,3)","v":0},{"$f":"SUM(D91:F91)","v":0},{"$f":"IF(E91<1,(G91/5),IF(F91<1,(G91/10),IF(F91>1,(G91/15))))","v":0},0,0,0]
[8,null,null,{"$f":"LARGE(I92:P92,1)","v":0},{"$f":"LARGE(I92:P92,2)","v":0},{"$f":"LARGE(I92:P92,3)","v":0},{"$f":"SUM(D92:F92)","v":0},{"$f":"IF(E92<1,(G92/5),IF(F92<1,(G92/10),IF(F92>1,(G92/15))))","v":0},0,0,0]
[9,null,null,{"$f":"LARGE(I93:P93,1)","v":0},{"$f":"LARGE(I93:P93,2)","v":0},{"$f":"LARGE(I93:P93,3)","v":0},{"$f":"SUM(D93:F93)","v":0},{"$f":"IF(E93<1,(G93/5),IF(F93<1,(G93/10),IF(F93>1,(G93/15))))","v":0},0,0,0]
[10,null,null,{"$f":"LARGE(I94:P94,1)","v":0},{"$f":"LARGE(I94:P94,2)","v":0},{"$f":"LARGE(I94:P94,3)","v":0},{"$f":"SUM(D94:F94)","v":0},{"$f":"IF(E94<1,(G94/5),IF(F94<1,(G94/10),IF(F94>1,(G94/15))))","v":0},0,0,0]
[11,null,null,{"$f":"LARGE(I95:P95,1)","v":0},{"$f":"LARGE(I95:P95,2)","v":0},{"$f":"LARGE(I95:P95,3)","v":0},{"$f":"SUM(D95:F95)","v":0},{"$f":"IF(E95<1,(G95/5),IF(F95<1,(G95/10),IF(F95>1,(G95/15))))","v":0},0,0,0]
[12,null,null,{"$f":"LARGE(I96:P96,1)","v":0},{"$f":"LARGE(I96:P96,2)","v":0},{"$f":"LARGE(I96:P96,3)","v":0},{"$f":"SUM(D96:F96)","v":0},{"$f":"IF(E96<1,(G96/5),IF(F96<1,(G96/10),IF(F96>1,(G96/15))))","v":0},0,0,0]
[13,null,null,{"$f":"LARGE(I97:P97,1)","v":0},{"$f":"LARGE(I97:P97,2)","v":0},{"$f":"LARGE(I97:P97,3)","v":0},{"$f":"SUM(D97:F97)","v":0},{"$f":"IF(E97<1,(G97/5),IF(F97<1,(G97/10),IF(F97>1,(G97/15))))","v":0},0,0,0]
[14,null,null,{"$f":"LARGE(I98:P98,1)","v":0},{"$f":"LARGE(I98:P98,2)","v":0},{"$f":"LARGE(I98:P98,3)","v":0},{"$f":"SUM(D98:F98)","v":0},{"$f":"IF(E98<1,(G98/5),IF(F98<1,(G98/10),IF(F98>1,(G98/15))))","v":0},0,0,0]
[15,null,null,{"$f":"LARGE(I99:P99,1)","v":0},{"$f":"LARGE(I99:P99,2)","v":0},{"$f":"LARGE(I99:P99,3)","v":0},{"$f":"SUM(D99:F99)","v":0},{"$f":"IF(E99<1,(G99/5),IF(F99<1,(G99/10),IF(F99>1,(G99/15))))","v":0},0,0,0]
[16,null,null,{"$f":"LARGE(I100:P100,1)","v":0},{"$f":"LARGE(I100:P100,2)","v":0},{"$f":"LARGE(I100:P100,3)","v":0},{"$f":"SUM(D100:F100)","v":0},{"$f":"IF(E100<1,(G100/5),IF(F100<1,(G100/10),IF(F100>1,(G100/15))))","v":0},0,0,0]
[17,null,null,{"$f":"LARGE(I101:P101,1)","v":0},{"$f":"LARGE(I101:P101,2)","v":0},{"$f":"LARGE(I101:P101,3)","v":0},{"$f":"SUM(D101:F101)","v":0},{"$f":"IF(E101<1,(G101/5),IF(F101<1,(G101/10),IF(F101>1,(G101/15))))","v":0},0,0,0]
[18,null,null,{"$f":"LARGE(I102:P102,1)","v":0},{"$f":"LARGE(I102:P102,2)","v":0},{"$f":"LARGE(I102:P102,3)","v":0},{"$f":"SUM(D102:F102)","v":0},{"$f":"IF(E102<1,(G102/5),IF(F102<1,(G102/10),IF(F102>1,(G102/15))))","v":0},0,0,0]
[19,null,null,{"$f":"LARGE(I103:P103,1)","v":0},{"$f":"LARGE(I103:P103,2)","v":0},{"$f":"LARGE(I103:P103,3)","v":0},{"$f":"SUM(D103:F103)","v":0},{"$f":"IF(E103<1,(G103/5),IF(F103<1,(G103/10),IF(F103>1,(G103/15))))","v":0},0,0,0]
[20,null,null,{"$f":"LARGE(I104:P104,1)","v":0},{"$f":"LARGE(I104:P104,2)","v":0},{"$f":"LARGE(I104:P104,3)","v":0},{"$f":"SUM(D104:F104)","v":0},{"$f":"IF(E104<1,(G104/5),IF(F104<1,(G104/10),IF(F104>1,(G104/15))))","v":0},0,0,0]
[21,null,null,{"$f":"LARGE(I105:P105,1)","v":0},{"$f":"LARGE(I105:P105,2)","v":0},{"$f":"LARGE(I105:P105,3)","v":0},{"$f":"SUM(D105:F105)","v":0},{"$f":"IF(E105<1,(G105/5),IF(F105<1,(G105/10),IF(F105>1,(G105/15))))","v":0},0,0,0]
[22,null,null,{"$f":"LARGE(I106:P106,1)","v":0},{"$f":"LARGE(I106:P106,2)","v":0},{"$f":"LARGE(I106:P106,3)","v":0},{"$f":"SUM(D106:F106)","v":0},{"$f":"IF(E106<1,(G106/5),IF(F106<1,(G106/10),IF(F106>1,(G106/15))))","v":0},0,0,0]
[23,null,null,{"$f":"LARGE(I107:P107,1)","v":0},{"$f":"LARGE(I107:P107,2)","v":0},{"$f":"LARGE(I107:P107,3)","v":0},{"$f":"SUM(D107:F107)","v":0},{"$f":"IF(E107<1,(G107/5),IF(F107<1,(G107/10),IF(F107>1,(G107/15))))","v":0},0,0,0]
[24,null,null,{"$f":"LARGE(I108:P108,1)","v":0},{"$f":"LARGE(I108:P108,2)","v":0},{"$f":"LARGE(I108:P108,3)","v":0},{"$f":"SUM(D108:F108)","v":0},{"$f":"IF(E108<1,(G108/5),IF(F108<1,(G108/10),IF(F108>1,(G108/15))))","v":0},0,0,0]
["Stand","Naam","Inschrijf nr.","1e Hoogste","2e Hoogste","3e Hoogste","Eindstand","Gemiddelde","1e Kaart","2e Kaart","3e Kaart","4e Kaart","5e Kaart","6e Kaart","7e Kaart","8e Kaart"]
[null,"Klasse E"]
[null,"120.01 - 125"]
[1,"Herman Brokelman",59,{"$f":"LARGE(I112:P112,1)","v":670},{"$f":"LARGE(I112:P112,2)","v":668},{"$f":"LARGE(I112:P112,3)","v":664},{"$f":"SUM(D112:F112)","v":2002},{"$f":"IF(E112<1,(G112/5),IF(F112<1,(G112/10),IF(F112>1,(G112/15))))","v":133.46666666666667},664,668,657,670]
[2,"Jacob Strating",7,{"$f":"LARGE(I113:P113,1)","v":680},{"$f":"LARGE(I113:P113,2)","v":679},{"$f":"LARGE(I113:P113,3)","v":629},{"$f":"SUM(D113:F113)","v":1988},{"$f":"IF(E113<1,(G113/5),IF(F113<1,(G113/10),IF(F113>1,(G113/15))))","v":132.53333333333333},617,592,598,551,629,680,679]
[3,"Jan Zwiers",3,{"$f":"LARGE(I114:P114,1)","v":659},{"$f":"LARGE(I114:P114,2)","v":659},{"$f":"LARGE(I114:P114,3)","v":652},{"$f":"SUM(D114:F114)","v":1970},{"$f":"IF(E114<1,(G114/5),IF(F114<1,(G114/10),IF(F114>1,(G114/15))))","v":131.33333333333334},614,637,645,659,659,652,582]
[4,"Jan van der Sleen",5,{"$f":"LARGE(I115:P115,1)","v":665},{"$f":"LARGE(I115:P115,2)","v":651},{"$f":"LARGE(I115:P115,3)","v":644},{"$f":"SUM(D115:F115)","v":1960},{"$f":"IF(E115<1,(G115/5),IF(F115<1,(G115/10),IF(F115>1,(G115/15))))","v":130.66666666666666},644,584,632,613,665,651]
[5,"Fred Heijerman",6,{"$f":"LARGE(I116:P116,1)","v":653},{"$f":"LARGE(I116:P116,2)","v":651},{"$f":"LARGE(I116:P116,3)","v":622},{"$f":"SUM(D116:F116)","v":1926},{"$f":"IF(E116<1,(G116/5),IF(F116<1,(G116/10),IF(F116>1,(G116/15))))","v":128.4},608,579,622,653,610,607,651]
[6,"Marten Boskamp",11,{"$f":"LARGE(I117:P117,1)","v":661},{"$f":"LARGE(I117:P117,2)","v":641},{"$f":"LARGE(I117:P117,3)","v":608},{"$f":"SUM(D117:F117)","v":1910},{"$f":"IF(E117<1,(G117/5),IF(F117<1,(G117/10),IF(F117>1,(G117/15))))","v":127.33333333333333},608,641,544,661,569]
[7,"Demi Willems",14,{"$f":"LARGE(I118:P118,1)","v":658},{"$f":"LARGE(I118:P118,2)","v":615},{"$f":"LARGE(I118:P118,3)","v":614},{"$f":"SUM(D118:F118)","v":1887},{"$f":"IF(E118<1,(G118/5),IF(F118<1,(G118/10),IF(F118>1,(G118/15))))","v":125.8},605,611,600,615,658,614,603]
[8,"Jaap Prins",21,{"$f":"LARGE(I119:P119,1)","v":648},{"$f":"LARGE(I119:P119,2)","v":621},{"$f":"LARGE(I119:P119,3)","v":610},{"$f":"SUM(D119:F119)","v":1879},{"$f":"IF(E119<1,(G119/5),IF(F119<1,(G119/10),IF(F119>1,(G119/15))))","v":125.26666666666667},610,621,574,562,586,648]
[9,"Cristha Fennema",72,{"$f":"LARGE(I120:P120,1)","v":636},{"$f":"LARGE(I120:P120,2)","v":624},{"$f":"LARGE(I120:P120,3)","v":589},{"$f":"SUM(D120:F120)","v":1849},{"$f":"IF(E120<1,(G120/5),IF(F120<1,(G120/10),IF(F120>1,(G120/15))))","v":123.26666666666667},624,589,636]
[10,"Roelof Hekman",39,{"$f":"LARGE(I121:P121,1)","v":639},{"$f":"LARGE(I121:P121,2)","v":600},{"$f":"LARGE(I121:P121,3)","v":578},{"$f":"SUM(D121:F121)","v":1817},{"$f":"IF(E121<1,(G121/5),IF(F121<1,(G121/10),IF(F121>1,(G121/15))))","v":121.13333333333334},578,639,600]
[11,"Jan Dolfsma",13,{"$f":"LARGE(I122:P122,1)","v":627},{"$f":"LARGE(I122:P122,2)","v":595},{"$f":"LARGE(I122:P122,3)","v":582},{"$f":"SUM(D122:F122)","v":1804},{"$f":"IF(E122<1,(G122/5),IF(F122<1,(G122/10),IF(F122>1,(G122/15))))","v":120.26666666666667},575,582,581,595,627]
[12,"Gemma Berends",28,{"$f":"LARGE(I123:P123,1)","v":593},{"$f":"LARGE(I123:P123,2)","v":557},{"$f":"LARGE(I123:P123,3)","v":533},{"$f":"SUM(D123:F123)","v":1683},{"$f":"IF(E123<1,(G123/5),IF(F123<1,(G123/10),IF(F123>1,(G123/15))))","v":112.2},557,533,593]
[13,null,null,{"$f":"LARGE(I124:P124,1)","v":0},{"$f":"LARGE(I124:P124,2)","v":0},{"$f":"LARGE(I124:P124,3)","v":0},{"$f":"SUM(D124:F124)","v":0},{"$f":"IF(E124<1,(G124/5),IF(F124<1,(G124/10),IF(F124>1,(G124/15))))","v":0},0,0,0]
[14,null,null,{"$f":"LARGE(I125:P125,1)","v":0},{"$f":"LARGE(I125:P125,2)","v":0},{"$f":"LARGE(I125:P125,3)","v":0},{"$f":"SUM(D125:F125)","v":0},{"$f":"IF(E125<1,(G125/5),IF(F125<1,(G125/10),IF(F125>1,(G125/15))))","v":0},0,0,0]
[15,null,null,{"$f":"LARGE(I126:P126,1)","v":0},{"$f":"LARGE(I126:P126,2)","v":0},{"$f":"LARGE(I126:P126,3)","v":0},{"$f":"SUM(D126:F126)","v":0},{"$f":"IF(E126<1,(G126/5),IF(F126<1,(G126/10),IF(F126>1,(G126/15))))","v":0},0,0,0]
[16,null,null,{"$f":"LARGE(I127:P127,1)","v":0},{"$f":"LARGE(I127:P127,2)","v":0},{"$f":"LARGE(I127:P127,3)","v":0},{"$f":"SUM(D127:F127)","v":0},{"$f":"IF(E127<1,(G127/5),IF(F127<1,(G127/10),IF(F127>1,(G127/15))))","v":0},0,0,0]
[17,null,null,{"$f":"LARGE(I128:P128,1)","v":0},{"$f":"LARGE(I128:P128,2)","v":0},{"$f":"LARGE(I128:P128,3)","v":0},{"$f":"SUM(D128:F128)","v":0},{"$f":"IF(E128<1,(G128/5),IF(F128<1,(G128/10),IF(F128>1,(G128/15))))","v":0},0,0,0]
[18,null,null,{"$f":"LARGE(I129:P129,1)","v":0},{"$f":"LARGE(I129:P129,2)","v":0},{"$f":"LARGE(I129:P129,3)","v":0},{"$f":"SUM(D129:F129)","v":0},{"$f":"IF(E129<1,(G129/5),IF(F129<1,(G129/10),IF(F129>1,(G129/15))))","v":0},0,0,0]
[19,null,null,{"$f":"LARGE(I130:P130,1)","v":0},{"$f":"LARGE(I130:P130,2)","v":0},{"$f":"LARGE(I130:P130,3)","v":0},{"$f":"SUM(D130:F130)","v":0},{"$f":"IF(E130<1,(G130/5),IF(F130<1,(G130/10),IF(F130>1,(G130/15))))","v":0},0,0,0]
[20,null,null,{"$f":"LARGE(I131:P131,1)","v":0},{"$f":"LARGE(I131:P131,2)","v":0},{"$f":"LARGE(I131:P131,3)","v":0},{"$f":"SUM(D131:F131)","v":0},{"$f":"IF(E131<1,(G131/5),IF(F131<1,(G131/10),IF(F131>1,(G131/15))))","v":0},0,0,0]
[21,null,null,{"$f":"LARGE(I132:P132,1)","v":0},{"$f":"LARGE(I132:P132,2)","v":0},{"$f":"LARGE(I132:P132,3)","v":0},{"$f":"SUM(D132:F132)","v":0},{"$f":"IF(E132<1,(G132/5),IF(F132<1,(G132/10),IF(F132>1,(G132/15))))","v":0},0,0,0]
[22,null,null,{"$f":"LARGE(I133:P133,1)","v":0},{"$f":"LARGE(I133:P133,2)","v":0},{"$f":"LARGE(I133:P133,3)","v":0},{"$f":"SUM(D133:F133)","v":0},{"$f":"IF(E133<1,(G133/5),IF(F133<1,(G133/10),IF(F133>1,(G133/15))))","v":0},0,0,0]
[23,null,null,{"$f":"LARGE(I134:P134,1)","v":0},{"$f":"LARGE(I134:P134,2)","v":0},{"$f":"LARGE(I134:P134,3)","v":0},{"$f":"SUM(D134:F134)","v":0},{"$f":"IF(E134<1,(G134/5),IF(F134<1,(G134/10),IF(F134>1,(G134/15))))","v":0},0,0,0]
[24,null,null,{"$f":"LARGE(I135:P135,1)","v":0},{"$f":"LARGE(I135:P135,2)","v":0},{"$f":"LARGE(I135:P135,3)","v":0},{"$f":"SUM(D135:F135)","v":0},{"$f":"IF(E135<1,(G135/5),IF(F135<1,(G135/10),IF(F135>1,(G135/15))))","v":0},0,0,0]
[25,null,null,{"$f":"LARGE(I136:P136,1)","v":0},{"$f":"LARGE(I136:P136,2)","v":0},{"$f":"LARGE(I136:P136,3)","v":0},{"$f":"SUM(D136:F136)","v":0},{"$f":"IF(E136<1,(G136/5),IF(F136<1,(G136/10),IF(F136>1,(G136/15))))","v":0},0,0,0]
[null,"Klasse F"]
[null,"115.01 - 120"]
[1,"Clemense Bekhof",22,{"$f":"LARGE(I139:P139,1)","v":655},{"$f":"LARGE(I139:P139,2)","v":653},{"$f":"LARGE(I139:P139,3)","v":649},{"$f":"SUM(D139:F139)","v":1957},{"$f":"IF(E139<1,(G139/5),IF(F139<1,(G139/10),IF(F139>1,(G139/15))))","v":130.46666666666667},570,592,618,655,653,649]
[2,"Janny Beens",19,{"$f":"LARGE(I140:P140,1)","v":609},{"$f":"LARGE(I140:P140,2)","v":602},{"$f":"LARGE(I140:P140,3)","v":571},{"$f":"SUM(D140:F140)","v":1782},{"$f":"IF(E140<1,(G140/5),IF(F140<1,(G140/10),IF(F140>1,(G140/15))))","v":118.8},528,568,568,571,609,552,602]
[3,"Jansje Kornet",16,{"$f":"LARGE(I141:P141,1)","v":595},{"$f":"LARGE(I141:P141,2)","v":592},{"$f":"LARGE(I141:P141,3)","v":591},{"$f":"SUM(D141:F141)","v":1778},{"$f":"IF(E141<1,(G141/5),IF(F141<1,(G141/10),IF(F141>1,(G141/15))))","v":118.53333333333333},461,548,591,583,595,592]
[4,"Rinsje Boskamp",12,{"$f":"LARGE(I142:P142,1)","v":567},{"$f":"LARGE(I142:P142,2)","v":551},{"$f":"LARGE(I142:P142,3)","v":519},{"$f":"SUM(D142:F142)","v":1637},{"$f":"IF(E142<1,(G142/5),IF(F142<1,(G142/10),IF(F142>1,(G142/15))))","v":109.13333333333334},519,551,567]
[5,"Tiny Ploeger",50,{"$f":"LARGE(I143:P143,1)","v":424},{"$f":"LARGE(I143:P143,2)","v":0},{"$f":"LARGE(I143:P143,3)","v":0},{"$f":"SUM(D143:F143)","v":424},{"$f":"IF(E143<1,(G143/5),IF(F143<1,(G143/10),IF(F143>1,(G143/15))))","v":84.8},424,0,0]
[6,null,null,{"$f":"LARGE(I144:P144,1)","v":0},{"$f":"LARGE(I144:P144,2)","v":0},{"$f":"LARGE(I144:P144,3)","v":0},{"$f":"SUM(D144:F144)","v":0},{"$f":"IF(E144<1,(G144/5),IF(F144<1,(G144/10),IF(F144>1,(G144/15))))","v":0},0,0,0]
[7,null,null,{"$f":"LARGE(I145:P145,1)","v":0},{"$f":"LARGE(I145:P145,2)","v":0},{"$f":"LARGE(I145:P145,3)","v":0},{"$f":"SUM(D145:F145)","v":0},{"$f":"IF(E145<1,(G145/5),IF(F145<1,(G145/10),IF(F145>1,(G145/15))))","v":0},0,0,0]
[8,null,null,{"$f":"LARGE(I146:P146,1)","v":0},{"$f":"LARGE(I146:P146,2)","v":0},{"$f":"LARGE(I146:P146,3)","v":0},{"$f":"SUM(D146:F146)","v":0},{"$f":"IF(E146<1,(G146/5),IF(F146<1,(G146/10),IF(F146>1,(G146/15))))","v":0},0,0,0]
[9,null,null,{"$f":"LARGE(I147:P147,1)","v":0},{"$f":"LARGE(I147:P147,2)","v":0},{"$f":"LARGE(I147:P147,3)","v":0},{"$f":"SUM(D147:F147)","v":0},{"$f":"IF(E147<1,(G147/5),IF(F147<1,(G147/10),IF(F147>1,(G147/15))))","v":0},0,0,0]
[10,null,null,{"$f":"LARGE(I148:P148,1)","v":0},{"$f":"LARGE(I148:P148,2)","v":0},{"$f":"LARGE(I148:P148,3)","v":0},{"$f":"SUM(D148:F148)","v":0},{"$f":"IF(E148<1,(G148/5),IF(F148<1,(G148/10),IF(F148>1,(G148/15))))","v":0},0,0,0]
[11,null,null,{"$f":"LARGE(I149:P149,1)","v":0},{"$f":"LARGE(I149:P149,2)","v":0},{"$f":"LARGE(I149:P149,3)","v":0},{"$f":"SUM(D149:F149)","v":0},{"$f":"IF(E149<1,(G149/5),IF(F149<1,(G149/10),IF(F149>1,(G149/15))))","v":0},0,0,0]
[12,null,null,{"$f":"LARGE(I150:P150,1)","v":0},{"$f":"LARGE(I150:P150,2)","v":0},{"$f":"LARGE(I150:P150,3)","v":0},{"$f":"SUM(D150:F150)","v":0},{"$f":"IF(E150<1,(G150/5),IF(F150<1,(G150/10),IF(F150>1,(G150/15))))","v":0},0,0,0]
[13,null,null,{"$f":"LARGE(I151:P151,1)","v":0},{"$f":"LARGE(I151:P151,2)","v":0},{"$f":"LARGE(I151:P151,3)","v":0},{"$f":"SUM(D151:F151)","v":0},{"$f":"IF(E151<1,(G151/5),IF(F151<1,(G151/10),IF(F151>1,(G151/15))))","v":0},0,0,0]
[14,null,null,{"$f":"LARGE(I152:P152,1)","v":0},{"$f":"LARGE(I152:P152,2)","v":0},{"$f":"LARGE(I152:P152,3)","v":0},{"$f":"SUM(D152:F152)","v":0},{"$f":"IF(E152<1,(G152/5),IF(F152<1,(G152/10),IF(F152>1,(G152/15))))","v":0},0,0,0]
[15,null,null,{"$f":"LARGE(I153:P153,1)","v":0},{"$f":"LARGE(I153:P153,2)","v":0},{"$f":"LARGE(I153:P153,3)","v":0},{"$f":"SUM(D153:F153)","v":0},{"$f":"IF(E153<1,(G153/5),IF(F153<1,(G153/10),IF(F153>1,(G153/15))))","v":0},0,0,0]
[16,null,null,{"$f":"LARGE(I154:P154,1)","v":0},{"$f":"LARGE(I154:P154,2)","v":0},{"$f":"LARGE(I154:P154,3)","v":0},{"$f":"SUM(D154:F154)","v":0},{"$f":"IF(E154<1,(G154/5),IF(F154<1,(G154/10),IF(F154>1,(G154/15))))","v":0},0,0,0]
[17,null,null,{"$f":"LARGE(I155:P155,1)","v":0},{"$f":"LARGE(I155:P155,2)","v":0},{"$f":"LARGE(I155:P155,3)","v":0},{"$f":"SUM(D155:F155)","v":0},{"$f":"IF(E155<1,(G155/5),IF(F155<1,(G155/10),IF(F155>1,(G155/15))))","v":0},0,0,0]
[18,null,null,{"$f":"LARGE(I156:P156,1)","v":0},{"$f":"LARGE(I156:P156,2)","v":0},{"$f":"LARGE(I156:P156,3)","v":0},{"$f":"SUM(D156:F156)","v":0},{"$f":"IF(E156<1,(G156/5),IF(F156<1,(G156/10),IF(F156>1,(G156/15))))","v":0},0,0,0]
[19,null,null,{"$f":"LARGE(I157:P157,1)","v":0},{"$f":"LARGE(I157:P157,2)","v":0},{"$f":"LARGE(I157:P157,3)","v":0},{"$f":"SUM(D157:F157)","v":0},{"$f":"IF(E157<1,(G157/5),IF(F157<1,(G157/10),IF(F157>1,(G157/15))))","v":0},0,0,0]
[20,null,null,{"$f":"LARGE(I158:P158,1)","v":0},{"$f":"LARGE(I158:P158,2)","v":0},{"$f":"LARGE(I158:P158,3)","v":0},{"$f":"SUM(D158:F158)","v":0},{"$f":"IF(E158<1,(G158/5),IF(F158<1,(G158/10),IF(F158>1,(G158/15))))","v":0},0,0,0]
[21,null,null,{"$f":"LARGE(I159:P159,1)","v":0},{"$f":"LARGE(I159:P159,2)","v":0},{"$f":"LARGE(I159:P159,3)","v":0},{"$f":"SUM(D159:F159)","v":0},{"$f":"IF(E159<1,(G159/5),IF(F159<1,(G159/10),IF(F159>1,(G159/15))))","v":0},0,0,0]
[22,null,null,{"$f":"LARGE(I160:P160,1)","v":0},{"$f":"LARGE(I160:P160,2)","v":0},{"$f":"LARGE(I160:P160,3)","v":0},{"$f":"SUM(D160:F160)","v":0},{"$f":"IF(E160<1,(G160/5),IF(F160<1,(G160/10),IF(F160>1,(G160/15))))","v":0},0,0,0]
[23,null,null,{"$f":"LARGE(I161:P161,1)","v":0},{"$f":"LARGE(I161:P161,2)","v":0},{"$f":"LARGE(I161:P161,3)","v":0},{"$f":"SUM(D161:F161)","v":0},{"$f":"IF(E161<1,(G161/5),IF(F161<1,(G161/10),IF(F161>1,(G161/15))))","v":0},0,0,0]
[24,null,null,{"$f":"LARGE(I162:P162,1)","v":0},{"$f":"LARGE(I162:P162,2)","v":0},{"$f":"LARGE(I162:P162,3)","v":0},{"$f":"SUM(D162:F162)","v":0},{"$f":"IF(E162<1,(G162/5),IF(F162<1,(G162/10),IF(F162>1,(G162/15))))","v":0},0,0,0]
["Stand","Naam","Inschrijf nr.","1e Hoogste","2e Hoogste","3e hoogste","Eindstand","Gemiddelde","1e Kaart","2e Kaart","3e Kaart","4e Kaart","5e Kaart","6e Kaart","7e Kaart","8e Kaart"]
[null,"Klasse G"]
[null,"110.01 - 115"]
[1,"Dinie Sempel",1,{"$f":"LARGE(I166:P166,1)","v":621},{"$f":"LARGE(I166:P166,2)","v":621},{"$f":"LARGE(I166:P166,3)","v":612},{"$f":"SUM(D166:F166)","v":1854},{"$f":"IF(E166<1,(G166/5),IF(F166<1,(G166/10),IF(F166>1,(G166/15))))","v":123.6},592,612,608,621,621,588]
[2,"Henk Oostenbrink",25,{"$f":"LARGE(I167:P167,1)","v":630},{"$f":"LARGE(I167:P167,2)","v":621},{"$f":"LARGE(I167:P167,3)","v":598},{"$f":"SUM(D167:F167)","v":1849},{"$f":"IF(E167<1,(G167/5),IF(F167<1,(G167/10),IF(F167>1,(G167/15))))","v":123.26666666666667},574,550,598,621,630,572]
[3,"Peter de Vries",2,{"$f":"LARGE(I168:P168,1)","v":625},{"$f":"LARGE(I168:P168,2)","v":613},{"$f":"LARGE(I168:P168,3)","v":595},{"$f":"SUM(D168:F168)","v":1833},{"$f":"IF(E168<1,(G168/5),IF(F168<1,(G168/10),IF(F168>1,(G168/15))))","v":122.2},595,575,625,568,613,569]
[4,"Tineke Gort",47,{"$f":"LARGE(I169:P169,1)","v":596},{"$f":"LARGE(I169:P169,2)","v":591},{"$f":"LARGE(I169:P169,3)","v":586},{"$f":"SUM(D169:F169)","v":1773},{"$f":"IF(E169<1,(G169/5),IF(F169<1,(G169/10),IF(F169>1,(G169/15))))","v":118.2},591,596,514,548,586]
[5,null,null,{"$f":"LARGE(I170:P170,1)","v":0},{"$f":"LARGE(I170:P170,2)","v":0},{"$f":"LARGE(I170:P170,3)","v":0},{"$f":"SUM(D170:F170)","v":0},{"$f":"IF(E170<1,(G170/5),IF(F170<1,(G170/10),IF(F170>1,(G170/15))))","v":0},0,0,0]
[6,null,null,{"$f":"LARGE(I171:P171,1)","v":0},{"$f":"LARGE(I171:P171,2)","v":0},{"$f":"LARGE(I171:P171,3)","v":0},{"$f":"SUM(D171:F171)","v":0},{"$f":"IF(E171<1,(G171/5),IF(F171<1,(G171/10),IF(F171>1,(G171/15))))","v":0},0,0,0]
[7,null,null,{"$f":"LARGE(I172:P172,1)","v":0},{"$f":"LARGE(I172:P172,2)","v":0},{"$f":"LARGE(I172:P172,3)","v":0},{"$f":"SUM(D172:F172)","v":0},{"$f":"IF(E172<1,(G172/5),IF(F172<1,(G172/10),IF(F172>1,(G172/15))))","v":0},0,0,0]
[8,null,null,{"$f":"LARGE(I173:P173,1)","v":0},{"$f":"LARGE(I173:P173,2)","v":0},{"$f":"LARGE(I173:P173,3)","v":0},{"$f":"SUM(D173:F173)","v":0},{"$f":"IF(E173<1,(G173/5),IF(F173<1,(G173/10),IF(F173>1,(G173/15))))","v":0},0,0,0]
[9,null,null,{"$f":"LARGE(I174:P174,1)","v":0},{"$f":"LARGE(I174:P174,2)","v":0},{"$f":"LARGE(I174:P174,3)","v":0},{"$f":"SUM(D174:F174)","v":0},{"$f":"IF(E174<1,(G174/5),IF(F174<1,(G174/10),IF(F174>1,(G174/15))))","v":0},0,0,0]
[10,null,null,{"$f":"LARGE(I175:P175,1)","v":0},{"$f":"LARGE(I175:P175,2)","v":0},{"$f":"LARGE(I175:P175,3)","v":0},{"$f":"SUM(D175:F175)","v":0},{"$f":"IF(E175<1,(G175/5),IF(F175<1,(G175/10),IF(F175>1,(G175/15))))","v":0},0,0,0]
[11,null,null,{"$f":"LARGE(I176:P176,1)","v":0},{"$f":"LARGE(I176:P176,2)","v":0},{"$f":"LARGE(I176:P176,3)","v":0},{"$f":"SUM(D176:F176)","v":0},{"$f":"IF(E176<1,(G176/5),IF(F176<1,(G176/10),IF(F176>1,(G176/15))))","v":0},0,0,0]
[12,null,null,{"$f":"LARGE(I177:P177,1)","v":0},{"$f":"LARGE(I177:P177,2)","v":0},{"$f":"LARGE(I177:P177,3)","v":0},{"$f":"SUM(D177:F177)","v":0},{"$f":"IF(E177<1,(G177/5),IF(F177<1,(G177/10),IF(F177>1,(G177/15))))","v":0},0,0,0]
[13,null,null,{"$f":"LARGE(I178:P178,1)","v":0},{"$f":"LARGE(I178:P178,2)","v":0},{"$f":"LARGE(I178:P178,3)","v":0},{"$f":"SUM(D178:F178)","v":0},{"$f":"IF(E178<1,(G178/5),IF(F178<1,(G178/10),IF(F178>1,(G178/15))))","v":0},0,0,0]
[14,null,null,{"$f":"LARGE(I179:P179,1)","v":0},{"$f":"LARGE(I179:P179,2)","v":0},{"$f":"LARGE(I179:P179,3)","v":0},{"$f":"SUM(D179:F179)","v":0},{"$f":"IF(E179<1,(G179/5),IF(F179<1,(G179/10),IF(F179>1,(G179/15))))","v":0},0,0,0]
[15,null,null,{"$f":"LARGE(I180:P180,1)","v":0},{"$f":"LARGE(I180:P180,2)","v":0},{"$f":"LARGE(I180:P180,3)","v":0},{"$f":"SUM(D180:F180)","v":0},{"$f":"IF(E180<1,(G180/5),IF(F180<1,(G180/10),IF(F180>1,(G180/15))))","v":0},0,0,0]
[]
[null,"Klasse H"]
[null,"105.01 - 110"]
[1,"D.J. Welleweerd",53,{"$f":"LARGE(I184:P184,1)","v":623},{"$f":"LARGE(I184:P184,2)","v":606},{"$f":"LARGE(I184:P184,3)","v":557},{"$f":"SUM(D184:F184)","v":1786},{"$f":"IF(E184<1,(G184/5),IF(F184<1,(G184/10),IF(F184>1,(G184/15))))","v":119.06666666666666},547,552,606,623,557]
[2,"Bert Batenburg",24,{"$f":"LARGE(I185:P185,1)","v":601},{"$f":"LARGE(I185:P185,2)","v":596},{"$f":"LARGE(I185:P185,3)","v":586},{"$f":"SUM(D185:F185)","v":1783},{"$f":"IF(E185<1,(G185/5),IF(F185<1,(G185/10),IF(F185>1,(G185/15))))","v":118.86666666666666},528,498,559,596,601,586]
[3,"Gerben Koppelman",43,{"$f":"LARGE(I186:P186,1)","v":588},{"$f":"LARGE(I186:P186,2)","v":584},{"$f":"LARGE(I186:P186,3)","v":583},{"$f":"SUM(D186:F186)","v":1755},{"$f":"IF(E186<1,(G186/5),IF(F186<1,(G186/10),IF(F186>1,(G186/15))))","v":117},588,463,584,583]
[4,"Harry de Gunst",36,{"$f":"LARGE(I187:P187,1)","v":601},{"$f":"LARGE(I187:P187,2)","v":571},{"$f":"LARGE(I187:P187,3)","v":569},{"$f":"SUM(D187:F187)","v":1741},{"$f":"IF(E187<1,(G187/5),IF(F187<1,(G187/10),IF(F187>1,(G187/15))))","v":116.06666666666666},562,555,520,601,569,571]
[5,"Diana Krause",18,{"$f":"LARGE(I188:P188,1)","v":592},{"$f":"LARGE(I188:P188,2)","v":564},{"$f":"LARGE(I188:P188,3)","v":563},{"$f":"SUM(D188:F188)","v":1719},{"$f":"IF(E188<1,(G188/5),IF(F188<1,(G188/10),IF(F188>1,(G188/15))))","v":114.6},533,564,544,557,530,592,515,563]
[6,"Nel Janssen",8,{"$f":"LARGE(I189:P189,1)","v":582},{"$f":"LARGE(I189:P189,2)","v":560},{"$f":"LARGE(I189:P189,3)","v":555},{"$f":"SUM(D189:F189)","v":1697},{"$f":"IF(E189<1,(G189/5),IF(F189<1,(G189/10),IF(F189>1,(G189/15))))","v":113.13333333333334},501,550,560,582,555,554]
[7,"Sonja Post",17,{"$f":"LARGE(I190:P190,1)","v":555},{"$f":"LARGE(I190:P190,2)","v":541},{"$f":"LARGE(I190:P190,3)","v":522},{"$f":"SUM(D190:F190)","v":1618},{"$f":"IF(E190<1,(G190/5),IF(F190<1,(G190/10),IF(F190>1,(G190/15))))","v":107.86666666666666},445,509,522,514,497,555,541]
[8,null,null,{"$f":"LARGE(I191:P191,1)","v":0},{"$f":"LARGE(I191:P191,2)","v":0},{"$f":"LARGE(I191:P191,3)","v":0},{"$f":"SUM(D191:F191)","v":0},{"$f":"IF(E191<1,(G191/5),IF(F191<1,(G191/10),IF(F191>1,(G191/15))))","v":0},0,0,0]
[9,null,null,{"$f":"LARGE(I192:P192,1)","v":0},{"$f":"LARGE(I192:P192,2)","v":0},{"$f":"LARGE(I192:P192,3)","v":0},{"$f":"SUM(D192:F192)","v":0},{"$f":"IF(E192<1,(G192/5),IF(F192<1,(G192/10),IF(F192>1,(G192/15))))","v":0},0,0,0]
[10,null,null,{"$f":"LARGE(I193:P193,1)","v":0},{"$f":"LARGE(I193:P193,2)","v":0},{"$f":"LARGE(I193:P193,3)","v":0},{"$f":"SUM(D193:F193)","v":0},{"$f":"IF(E193<1,(G193/5),IF(F193<1,(G193/10),IF(F193>1,(G193/15))))","v":0},0,0,0]
[11,null,null,{"$f":"LARGE(I194:P194,1)","v":0},{"$f":"LARGE(I194:P194,2)","v":0},{"$f":"LARGE(I194:P194,3)","v":0},{"$f":"SUM(D194:F194)","v":0},{"$f":"IF(E194<1,(G194/5),IF(F194<1,(G194/10),IF(F194>1,(G194/15))))","v":0},0,0,0]
[12,null,null,{"$f":"LARGE(I195:P195,1)","v":0},{"$f":"LARGE(I195:P195,2)","v":0},{"$f":"LARGE(I195:P195,3)","v":0},{"$f":"SUM(D195:F195)","v":0},{"$f":"IF(E195<1,(G195/5),IF(F195<1,(G195/10),IF(F195>1,(G195/15))))","v":0},0,0,0]
[13,null,null,{"$f":"LARGE(I196:P196,1)","v":0},{"$f":"LARGE(I196:P196,2)","v":0},{"$f":"LARGE(I196:P196,3)","v":0},{"$f":"SUM(D196:F196)","v":0},{"$f":"IF(E196<1,(G196/5),IF(F196<1,(G196/10),IF(F196>1,(G196/15))))","v":0},0,0,0]
[14,null,null,{"$f":"LARGE(I197:P197,1)","v":0},{"$f":"LARGE(I197:P197,2)","v":0},{"$f":"LARGE(I197:P197,3)","v":0},{"$f":"SUM(D197:F197)","v":0},{"$f":"IF(E197<1,(G197/5),IF(F197<1,(G197/10),IF(F197>1,(G197/15))))","v":0},0,0,0]
[15,null,null,{"$f":"LARGE(I198:P198,1)","v":0},{"$f":"LARGE(I198:P198,2)","v":0},{"$f":"LARGE(I198:P198,3)","v":0},{"$f":"SUM(D198:F198)","v":0},{"$f":"IF(E198<1,(G198/5),IF(F198<1,(G198/10),IF(F198>1,(G198/15))))","v":0},0,0,0]
[]
[null,"Klasse I"]
[null,"100.00 - 105"]
[1,"Adriana van de Zande",10,{"$f":"LARGE(I202:P202,1)","v":607},{"$f":"LARGE(I202:P202,2)","v":593},{"$f":"LARGE(I202:P202,3)","v":574},{"$f":"SUM(D202:F202)","v":1774},{"$f":"IF(E202<1,(G202/5),IF(F202<1,(G202/10),IF(F202>1,(G202/15))))","v":118.26666666666667},468,516,538,574,523,607,593]
[2,"Roelie Bijlsma",23,{"$f":"LARGE(I203:P203,1)","v":588},{"$f":"LARGE(I203:P203,2)","v":563},{"$f":"LARGE(I203:P203,3)","v":541},{"$f":"SUM(D203:F203)","v":1692},{"$f":"IF(E203<1,(G203/5),IF(F203<1,(G203/10),IF(F203>1,(G203/15))))","v":112.8},449,588,505,563,541]
[3,"Betty Koppelman",42,{"$f":"LARGE(I204:P204,1)","v":564},{"$f":"LARGE(I204:P204,2)","v":558},{"$f":"LARGE(I204:P204,3)","v":555},{"$f":"SUM(D204:F204)","v":1677},{"$f":"IF(E204<1,(G204/5),IF(F204<1,(G204/10),IF(F204>1,(G204/15))))","v":111.8},555,564,552,558]
[4,"Ge Oostenbrink",26,{"$f":"LARGE(I205:P205,1)","v":573},{"$f":"LARGE(I205:P205,2)","v":552},{"$f":"LARGE(I205:P205,3)","v":541},{"$f":"SUM(D205:F205)","v":1666},{"$f":"IF(E205<1,(G205/5),IF(F205<1,(G205/10),IF(F205>1,(G205/15))))","v":111.06666666666666},450,573,552,528,541,518]
[5,"Leny van de Vliet",4,{"$f":"LARGE(I206:P206,1)","v":550},{"$f":"LARGE(I206:P206,2)","v":543},{"$f":"LARGE(I206:P206,3)","v":543},{"$f":"SUM(D206:F206)","v":1636},{"$f":"IF(E206<1,(G206/5),IF(F206<1,(G206/10),IF(F206>1,(G206/15))))","v":109.06666666666666},543,535,550,543,541,536]
[6,null,null,{"$f":"LARGE(I207:P207,1)","v":0},{"$f":"LARGE(I207:P207,2)","v":0},{"$f":"LARGE(I207:P207,3)","v":0},{"$f":"SUM(D207:F207)","v":0},{"$f":"IF(E207<1,(G207/5),IF(F207<1,(G207/10),IF(F207>1,(G207/15))))","v":0},0,0,0]
[7,null,null,{"$f":"LARGE(I208:P208,1)","v":0},{"$f":"LARGE(I208:P208,2)","v":0},{"$f":"LARGE(I208:P208,3)","v":0},{"$f":"SUM(D208:F208)","v":0},{"$f":"IF(E208<1,(G208/5),IF(F208<1,(G208/10),IF(F208>1,(G208/15))))","v":0},0,0,0]
[8,null,null,{"$f":"LARGE(I209:P209,1)","v":0},{"$f":"LARGE(I209:P209,2)","v":0},{"$f":"LARGE(I209:P209,3)","v":0},{"$f":"SUM(D209:F209)","v":0},{"$f":"IF(E209<1,(G209/5),IF(F209<1,(G209/10),IF(F209>1,(G209/15))))","v":0},0,0,0]
[9,null,null,{"$f":"LARGE(I210:P210,1)","v":0},{"$f":"LARGE(I210:P210,2)","v":0},{"$f":"LARGE(I210:P210,3)","v":0},{"$f":"SUM(D210:F210)","v":0},{"$f":"IF(E210<1,(G210/5),IF(F210<1,(G210/10),IF(F210>1,(G210/15))))","v":0},0,0,0]
[10,null,null,{"$f":"LARGE(I211:P211,1)","v":0},{"$f":"LARGE(I211:P211,2)","v":0},{"$f":"LARGE(I211:P211,3)","v":0},{"$f":"SUM(D211:F211)","v":0},{"$f":"IF(E211<1,(G211/5),IF(F211<1,(G211/10),IF(F211>1,(G211/15))))","v":0},0,0,0]
[11,null,null,{"$f":"LARGE(I212:P212,1)","v":0},{"$f":"LARGE(I212:P212,2)","v":0},{"$f":"LARGE(I212:P212,3)","v":0},{"$f":"SUM(D212:F212)","v":0},{"$f":"IF(E212<1,(G212/5),IF(F212<1,(G212/10),IF(F212>1,(G212/15))))","v":0},0,0,0]
[12,null,null,{"$f":"LARGE(I213:P213,1)","v":0},{"$f":"LARGE(I213:P213,2)","v":0},{"$f":"LARGE(I213:P213,3)","v":0},{"$f":"SUM(D213:F213)","v":0},{"$f":"IF(E213<1,(G213/5),IF(F213<1,(G213/10),IF(F213>1,(G213/15))))","v":0},0,0,0]
[13,null,null,{"$f":"LARGE(I214:P214,1)","v":0},{"$f":"LARGE(I214:P214,2)","v":0},{"$f":"LARGE(I214:P214,3)","v":0},{"$f":"SUM(D214:F214)","v":0},{"$f":"IF(E214<1,(G214/5),IF(F214<1,(G214/10),IF(F214>1,(G214/15))))","v":0},0,0,0]
[14,null,null,{"$f":"LARGE(I215:P215,1)","v":0},{"$f":"LARGE(I215:P215,2)","v":0},{"$f":"LARGE(I215:P215,3)","v":0},{"$f":"SUM(D215:F215)","v":0},{"$f":"IF(E215<1,(G215/5),IF(F215<1,(G215/10),IF(F215>1,(G215/15))))","v":0},0,0,0]
[15,null,null,{"$f":"LARGE(I216:P216,1)","v":0},{"$f":"LARGE(I216:P216,2)","v":0},{"$f":"LARGE(I216:P216,3)","v":0},{"$f":"SUM(D216:F216)","v":0},{"$f":"IF(E216<1,(G216/5),IF(F216<1,(G216/10),IF(F216>1,(G216/15))))","v":0},0,0,0]
["Stand","Naam","Inschrijf nr.","1e Hoogste","2e Hoogste","3e hoogste","Eindstand","Gemiddelde","1e Kaart","2e Kaart","3e Kaart","4e Kaart","5e Kaart","6e Kaart","7e Kaart","8e Kaart"]
[null,"Klasse J"]
[null,"0 - 100"]
[1,"Leo Koppelman",15,{"$f":"LARGE(I220:P220,1)","v":499},{"$f":"LARGE(I220:P220,2)","v":496},{"$f":"LARGE(I220:P220,3)","v":481},{"$f":"SUM(D220:F220)","v":1476},{"$f":"IF(E220<1,(G220/5),IF(F220<1,(G220/10),IF(F220>1,(G220/15))))","v":98.4},450,479,499,496,481]
[2,null,null,{"$f":"LARGE(I221:P221,1)","v":0},{"$f":"LARGE(I221:P221,2)","v":0},{"$f":"LARGE(I221:P221,3)","v":0},{"$f":"SUM(D221:F221)","v":0},{"$f":"IF(E221<1,(G221/5),IF(F221<1,(G221/10),IF(F221>1,(G221/15))))","v":0},0,0,0]
[3,null,null,{"$f":"LARGE(I222:P222,1)","v":0},{"$f":"LARGE(I222:P222,2)","v":0},{"$f":"LARGE(I222:P222,3)","v":0},{"$f":"SUM(D222:F222)","v":0},{"$f":"IF(E222<1,(G222/5),IF(F222<1,(G222/10),IF(F222>1,(G222/15))))","v":0},0,0,0]
[4,null,null,{"$f":"LARGE(I223:P223,1)","v":0},{"$f":"LARGE(I223:P223,2)","v":0},{"$f":"LARGE(I223:P223,3)","v":0},{"$f":"SUM(D223:F223)","v":0},{"$f":"IF(E223<1,(G223/5),IF(F223<1,(G223/10),IF(F223>1,(G223/15))))","v":0},0,0,0]
[5,null,null,{"$f":"LARGE(I224:P224,1)","v":0},{"$f":"LARGE(I224:P224,2)","v":0},{"$f":"LARGE(I224:P224,3)","v":0},{"$f":"SUM(D224:F224)","v":0},{"$f":"IF(E224<1,(G224/5),IF(F224<1,(G224/10),IF(F224>1,(G224/15))))","v":0},0,0,0]
[6,null,null,{"$f":"LARGE(I225:P225,1)","v":0},{"$f":"LARGE(I225:P225,2)","v":0},{"$f":"LARGE(I225:P225,3)","v":0},{"$f":"SUM(D225:F225)","v":0},{"$f":"IF(E225<1,(G225/5),IF(F225<1,(G225/10),IF(F225>1,(G225/15))))","v":0},0,0,0]
[7,null,null,{"$f":"LARGE(I226:P226,1)","v":0},{"$f":"LARGE(I226:P226,2)","v":0},{"$f":"LARGE(I226:P226,3)","v":0},{"$f":"SUM(D226:F226)","v":0},{"$f":"IF(E226<1,(G226/5),IF(F226<1,(G226/10),IF(F226>1,(G226/15))))","v":0},0,0,0]
[8,null,null,{"$f":"LARGE(I227:P227,1)","v":0},{"$f":"LARGE(I227:P227,2)","v":0},{"$f":"LARGE(I227:P227,3)","v":0},{"$f":"SUM(D227:F227)","v":0},{"$f":"IF(E227<1,(G227/5),IF(F227<1,(G227/10),IF(F227>1,(G227/15))))","v":0},0,0,0]
[9,null,null,{"$f":"LARGE(I228:P228,1)","v":0},{"$f":"LARGE(I228:P228,2)","v":0},{"$f":"LARGE(I228:P228,3)","v":0},{"$f":"SUM(D228:F228)","v":0},{"$f":"IF(E228<1,(G228/5),IF(F228<1,(G228/10),IF(F228>1,(G228/15))))","v":0},0,0,0]
[10,null,null,{"$f":"LARGE(I229:P229,1)","v":0},{"$f":"LARGE(I229:P229,2)","v":0},{"$f":"LARGE(I229:P229,3)","v":0},{"$f":"SUM(D229:F229)","v":0},{"$f":"IF(E229<1,(G229/5),IF(F229<1,(G229/10),IF(F229>1,(G229/15))))","v":0},0,0,0]
[11,null,null,{"$f":"LARGE(I230:P230,1)","v":0},{"$f":"LARGE(I230:P230,2)","v":0},{"$f":"LARGE(I230:P230,3)","v":0},{"$f":"SUM(D230:F230)","v":0},{"$f":"IF(E230<1,(G230/5),IF(F230<1,(G230/10),IF(F230>1,(G230/15))))","v":0},0,0,0]
[12,null,null,{"$f":"LARGE(I231:P231,1)","v":0},{"$f":"LARGE(I231:P231,2)","v":0},{"$f":"LARGE(I231:P231,3)","v":0},{"$f":"SUM(D231:F231)","v":0},{"$f":"IF(E231<1,(G231/5),IF(F231<1,(G231/10),IF(F231>1,(G231/15))))","v":0},0,0,0]
[]
[null,"Jeugd "]
[]
[1,"Jorn Tolsma",71,{"$f":"LARGE(I235:P235,1)","v":530},{"$f":"LARGE(I235:P235,2)","v":510},{"$f":"LARGE(I235:P235,3)","v":483},{"$f":"SUM(D235:F235)","v":1523},{"$f":"IF(E235<1,(G235/5),IF(F235<1,(G235/10),IF(F235>1,(G235/15))))","v":101.53333333333333},530,483,510]
[2,"Matz Verlaan",64,{"$f":"LARGE(I236:P236,1)","v":468},{"$f":"LARGE(I236:P236,2)","v":451},{"$f":"LARGE(I236:P236,3)","v":408},{"$f":"SUM(D236:F236)","v":1327},{"$f":"IF(E236<1,(G236/5),IF(F236<1,(G236/10),IF(F236>1,(G236/15))))","v":88.466666666666669},451,468,408]
[3,"Jonathan Verlaan",65,{"$f":"LARGE(I237:P237,1)","v":437},{"$f":"LARGE(I237:P237,2)","v":436},{"$f":"LARGE(I237:P237,3)","v":421},{"$f":"SUM(D237:F237)","v":1294},{"$f":"IF(E237<1,(G237/5),IF(F237<1,(G237/10),IF(F237>1,(G237/15))))","v":86.266666666666666},437,436,421]
[4,null,null,{"$f":"LARGE(I238:P238,1)","v":0},{"$f":"LARGE(I238:P238,2)","v":0},{"$f":"LARGE(I238:P238,3)","v":0},{"$f":"SUM(D238:F238)","v":0},{"$f":"IF(E238<1,(G238/5),IF(F238<1,(G238/10),IF(F238>1,(G238/15))))","v":0},0,0,0]
[5,null,null,{"$f":"LARGE(I239:P239,1)","v":0},{"$f":"LARGE(I239:P239,2)","v":0},{"$f":"LARGE(I239:P239,3)","v":0},{"$f":"SUM(D239:F239)","v":0},{"$f":"IF(E239<1,(G239/5),IF(F239<1,(G239/10),IF(F239>1,(G239/15))))","v":0},0,0,0]
[6,null,null,{"$f":"LARGE(I240:P240,1)","v":0},{"$f":"LARGE(I240:P240,2)","v":0},{"$f":"LARGE(I240:P240,3)","v":0},{"$f":"SUM(D240:F240)","v":0},{"$f":"IF(E240<1,(G240/5),IF(F240<1,(G240/10),IF(F240>1,(G240/15))))","v":0},0,0,0]
[7,null,null,{"$f":"LARGE(I241:P241,1)","v":0},{"$f":"LARGE(I241:P241,2)","v":0},{"$f":"LARGE(I241:P241,3)","v":0},{"$f":"SUM(D241:F241)","v":0},{"$f":"IF(E241<1,(G241/5),IF(F241<1,(G241/10),IF(F241>1,(G241/15))))","v":0},0,0,0]
[8,null,null,{"$f":"LARGE(I242:P242,1)","v":0},{"$f":"LARGE(I242:P242,2)","v":0},{"$f":"LARGE(I242:P242,3)","v":0},{"$f":"SUM(D242:F242)","v":0},{"$f":"IF(E242<1,(G242/5),IF(F242<1,(G242/10),IF(F242>1,(G242/15))))","v":0},0,0,0]
[9,null,null,{"$f":"LARGE(I243:P243,1)","v":0},{"$f":"LARGE(I243:P243,2)","v":0},{"$f":"LARGE(I243:P243,3)","v":0},{"$f":"SUM(D243:F243)","v":0},{"$f":"IF(E243<1,(G243/5),IF(F243<1,(G243/10),IF(F243>1,(G243/15))))","v":0},0,0,0]
[]
[null,"Klasse X"]
[1,"Elly Nijland",67,{"$f":"LARGE(I246:P246,1)","v":620},{"$f":"LARGE(I246:P246,2)","v":0},{"$f":"LARGE(I246:P246,3)","v":0},{"$f":"SUM(D246:F246)","v":620},{"$f":"IF(E246<1,(G246/5),IF(F246<1,(G246/10),IF(F246>1,(G246/15))))","v":124},620,0,0]
[2,"Anny Hakkers",66,{"$f":"LARGE(I247:P247,1)","v":588},{"$f":"LARGE(I247:P247,2)","v":0},{"$f":"LARGE(I247:P247,3)","v":0},{"$f":"SUM(D247:F247)","v":588},{"$f":"IF(E247<1,(G247/5),IF(F247<1,(G247/10),IF(F247>1,(G247/15))))","v":117.6},588,0,0]
[3,"Annelijn Tolsma",70,{"$f":"LARGE(I248:P248,1)","v":499},{"$f":"LARGE(I248:P248,2)","v":0},{"$f":"LARGE(I248:P248,3)","v":0},{"$f":"SUM(D248:F248)","v":499},{"$f":"IF(E248<1,(G248/5),IF(F248<1,(G248/10),IF(F248>1,(G248/15))))","v":99.8},499,0,0]
[4,"Kevin Nijland",68,{"$f":"LARGE(I249:P249,1)","v":335},{"$f":"LARGE(I249:P249,2)","v":0},{"$f":"LARGE(I249:P249,3)","v":0},{"$f":"SUM(D249:F249)","v":335},{"$f":"IF(E249<1,(G249/5),IF(F249<1,(G249/10),IF(F249>1,(G249/15))))","v":67},335,0,0]
[5,null,null,{"$f":"LARGE(I250:P250,1)","v":0},{"$f":"LARGE(I250:P250,2)","v":0},{"$f":"LARGE(I250:P250,3)","v":0},{"$f":"SUM(D250:F250)","v":0},{"$f":"IF(E250<1,(G250/5),IF(F250<1,(G250/10),IF(F250>1,(G250/15))))","v":0},0,0,0]
[6,null,null,{"$f":"LARGE(I251:P251,1)","v":0},{"$f":"LARGE(I251:P251,2)","v":0},{"$f":"LARGE(I251:P251,3)","v":0},{"$f":"SUM(D251:F251)","v":0},{"$f":"IF(E251<1,(G251/5),IF(F251<1,(G251/10),IF(F251>1,(G251/15))))","v":0},0,0,0]
[7,null,null,{"$f":"LARGE(I252:P252,1)","v":0},{"$f":"LARGE(I252:P252,2)","v":0},{"$f":"LARGE(I252:P252,3)","v":0},{"$f":"SUM(D252:F252)","v":0},{"$f":"IF(E252<1,(G252/5),IF(F252<1,(G252/10),IF(F252>1,(G252/15))))","v":0},0,0,0]
[8,null,null,{"$f":"LARGE(I253:P253,1)","v":0},{"$f":"LARGE(I253:P253,2)","v":0},{"$f":"LARGE(I253:P253,3)","v":0},{"$f":"SUM(D253:F253)","v":0},{"$f":"IF(E253<1,(G253/5),IF(F253<1,(G253/10),IF(F253>1,(G253/15))))","v":0},0,0,0]
[9,null,null,{"$f":"LARGE(I254:P254,1)","v":0},{"$f":"LARGE(I254:P254,2)","v":0},{"$f":"LARGE(I254:P254,3)","v":0},{"$f":"SUM(D254:F254)","v":0},{"$f":"IF(E254<1,(G254/5),IF(F254<1,(G254/10),IF(F254>1,(G254/15))))","v":0},0,0,0]
[10,null,null,{"$f":"LARGE(I255:P255,1)","v":0},{"$f":"LARGE(I255:P255,2)","v":0},{"$f":"LARGE(I255:P255,3)","v":0},{"$f":"SUM(D255:F255)","v":0},{"$f":"IF(E255<1,(G255/5),IF(F255<1,(G255/10),IF(F255>1,(G255/15))))","v":0},0,0,0]
[11,null,null,0,0,0,0,0,0,0,0]
[12,"Peper",45,{"$f":"LARGE(I257:P257,1)","v":318},{"$f":"LARGE(I257:P257,2)","v":0},{"$f":"LARGE(I257:P257,3)","v":0},{"$f":"SUM(D257:E257)","v":318},{"$f":"IF(E257<1,(G257/5),IF(E257>1,(G257/10)))","v":63.6},318,0,0]
[13,null,null,{"$f":"LARGE(I258:P258,1)","v":0},{"$f":"LARGE(I258:P258,2)","v":0},{"$f":"LARGE(I258:P258,3)","v":0},{"$f":"SUM(D258:E258)","v":0},{"$f":"IF(E258<1,(G258/5),IF(E258>1,(G258/10)))","v":0},0,0,0]
[14,null,null,{"$f":"LARGE(I259:P259,1)","v":0},{"$f":"LARGE(I259:P259,2)","v":0},{"$f":"LARGE(I259:P259,3)","v":0},{"$f":"SUM(D259:E259)","v":0},{"$f":"IF(E259<1,(G259/5),IF(E259>1,(G259/10)))","v":0},0,0,0]
[15,null,null,{"$f":"LARGE(I260:P260,1)","v":0},{"$f":"LARGE(I260:P260,2)","v":0},{"$f":"LARGE(I260:P260,3)","v":0},{"$f":"SUM(D260:E260)","v":0},{"$f":"IF(E260<1,(G260/5),IF(E260>1,(G260/10)))","v":0},0,0,0]
[16,null,null,{"$f":"LARGE(I261:P261,1)","v":0},{"$f":"LARGE(I261:P261,2)","v":0},{"$f":"LARGE(I261:P261,3)","v":0},{"$f":"SUM(D261:E261)","v":0},{"$f":"IF(E261<1,(G261/5),IF(E261>1,(G261/10)))","v":0},0,0,0]
[17,null,null,{"$f":"LARGE(I262:P262,1)","v":0},{"$f":"LARGE(I262:P262,2)","v":0},{"$f":"LARGE(I262:P262,3)","v":0},{"$f":"SUM(D262:E262)","v":0},{"$f":"IF(E262<1,(G262/5),IF(E262>1,(G262/10)))","v":0},0,0,0]
[18,null,null,{"$f":"LARGE(I263:P263,1)","v":0},{"$f":"LARGE(I263:P263,2)","v":0},{"$f":"LARGE(I263:P263,3)","v":0},{"$f":"SUM(D263:E263)","v":0},{"$f":"IF(E263<1,(G263/5),IF(E263>1,(G263/10)))","v":0},0,0,0]
[19,null,null,{"$f":"LARGE(I264:P264,1)","v":0},{"$f":"LARGE(I264:P264,2)","v":0},{"$f":"LARGE(I264:P264,3)","v":0},{"$f":"SUM(D264:E264)","v":0},{"$f":"IF(E264<1,(G264/5),IF(E264>1,(G264/10)))","v":0},0,0,0]
[20,null,null,{"$f":"LARGE(I265:P265,1)","v":0},{"$f":"LARGE(I265:P265,2)","v":0},{"$f":"LARGE(I265:P265,3)","v":0},{"$f":"SUM(D265:E265)","v":0},{"$f":"IF(E265<1,(G265/5),IF(E265>1,(G265/10)))","v":0},0,0,0]
[21,null,null,{"$f":"LARGE(I266:P266,1)","v":0},{"$f":"LARGE(I266:P266,2)","v":0},{"$f":"LARGE(I266:P266,3)","v":0},{"$f":"SUM(D266:E266)","v":0},{"$f":"IF(E266<1,(G266/5),IF(E266>1,(G266/10)))","v":0},0,0,0]
[22,null,null,{"$f":"LARGE(I267:P267,1)","v":0},{"$f":"LARGE(I267:P267,2)","v":0},{"$f":"LARGE(I267:P267,3)","v":0},{"$f":"SUM(D267:E267)","v":0},{"$f":"IF(E267<1,(G267/5),IF(E267>1,(G267/10)))","v":0},0,0,0]
[23,null,null,{"$f":"LARGE(I268:P268,1)","v":0},{"$f":"LARGE(I268:P268,2)","v":0},{"$f":"LARGE(I268:P268,3)","v":0},{"$f":"SUM(D268:E268)","v":0},{"$f":"IF(E268<1,(G268/5),IF(E268>1,(G268/10)))","v":0},0,0,0]

{"sheet":"Finale Kaarten","index":1,"n_rows":220,"n_cols":15,"rows_kept":220,"cut":false,"hidden":false,"merged":[]}
[{"$f":"'Standen Programma'!B4","v":"Wim Kiwiet"},null,null,{"$f":"A1","v":"Wim Kiwiet"},null,{"$f":"'Standen Programma'!B5","v":"Siem Oostenbrink"},null,null,{"$f":"F1","v":"Siem Oostenbrink"},null,{"$f":"'Standen Programma'!B6","v":"Hetty Kleine"},null,null,{"$f":"K1","v":"Hetty Kleine"}]
[{"$f":"'Standen Programma'!B2","v":"Klasse A "},{"$f":"'Standen Programma'!C4","v":20},null,null,null,{"$f":"A2","v":"Klasse A "},{"$f":"'Standen Programma'!C5","v":52},null,null,null,{"$f":"A2","v":"Klasse A "},{"$f":"'Standen Programma'!C6","v":62}]
["Jureren Vak C",null,null,null,null,{"$f":"A3","v":"Jureren Vak C"},null,null,null,null,{"$f":"A3","v":"Jureren Vak C"}]
[null,{"$f":"'Standen Programma'!D4","v":732},null,null,{"$f":"B4","v":732},null,{"$f":"'Standen Programma'!D5","v":732},null,null,{"$f":"G4","v":732},null,{"$f":"'Standen Programma'!D6","v":724},null,null,{"$f":"L4","v":724}]
["Bak","Score",null,"Bak","Score","Bak","Score",null,"Bak","Score","Bak","Score",null,"Bak","Score"]
[]
[]
[]
[]
[]
["Totaal",null,null,"Totaal",null,"Totaal",null,null,"Totaal",null,"Totaal",null,null,"Totaal"]
[{"$f":"'Standen Programma'!B7","v":"Jarno Langerak"},null,null,{"$f":"A12","v":"Jarno Langerak"},null,{"$f":"'Standen Programma'!B8","v":"Herman Depenbrock"},null,null,{"$f":"F12","v":"Herman Depenbrock"},null,{"$f":"'Standen Programma'!B31","v":"Theo v d Ree Dolaard"},null,null,{"$f":"K12","v":"Theo v d Ree Dolaard"}]
[{"$f":"A2","v":"Klasse A "},{"$f":"'Standen Programma'!C7","v":31},null,null,null,{"$f":"A2","v":"Klasse A "},{"$f":"'Standen Programma'!C8","v":40},null,null,null,{"$f":"'Standen Programma'!B29","v":"Klasse B"},{"$f":"'Standen Programma'!C31","v":38}]
[{"$f":"A3","v":"Jureren Vak C"},null,null,null,null,{"$f":"A3","v":"Jureren Vak C"},null,null,null,null,"Sjoelen Vak C"]
[null,{"$f":"'Standen Programma'!D7","v":724},null,null,{"$f":"B15","v":724},null,{"$f":"'Standen Programma'!D8","v":732},null,null,{"$f":"G15","v":732},null,{"$f":"'Standen Programma'!D31","v":708},null,null,{"$f":"L15","v":708}]
["Bak","Score",null,"Bak","Score","Bak","Score",null,"Bak","Score","Bak","Score",null,"Bak","Score"]
[]
[]
[]
[]
[]
["Totaal",null,null,"Totaal",null,"Totaal",null,null,"Totaal",null,"Totaal",null,null,"Totaal"]
[{"$f":"'Standen Programma'!B32","v":"Hans Heusinkveld"},null,null,{"$f":"A23","v":"Hans Heusinkveld"},null,{"$f":"'Standen Programma'!B33","v":"Wim Dunning"},null,null,{"$f":"F23","v":"Wim Dunning"},null,{"$f":"'Standen Programma'!B34","v":"Janny Koops"},null,null,{"$f":"K23","v":"Janny Koops"}]
[{"$f":"K13","v":"Klasse B"},null,null,null,null,{"$f":"K13","v":"Klasse B"},{"$f":"'Standen Programma'!C33","v":30},null,null,null,{"$f":"K13","v":"Klasse B"},{"$f":"'Standen Programma'!C34","v":46}]
[{"$f":"K14","v":"Sjoelen Vak C"},null,null,null,null,{"$f":"K14","v":"Sjoelen Vak C"},null,null,null,null,{"$f":"K14","v":"Sjoelen Vak C"}]
[null,{"$f":"'Standen Programma'!D32","v":720},null,null,{"$f":"B26","v":720},null,{"$f":"'Standen Programma'!D33","v":693},null,null,{"$f":"G26","v":693},null,{"$f":"'Standen Programma'!D34","v":697},null,null,{"$f":"L26","v":697}]
["Bak","Score",null,"Bak","Score","Bak","Score",null,"Bak","Score","Bak","Score",null,"Bak","Score"]
[]
[]
[]
[]
[]
["Totaal",null,null,"Totaal",null,"Totaal",null,null,"Totaal",null,"Totaal",null,null,"Totaal"]
[{"$f":"'Standen Programma'!B35","v":"Marissa Tolsma"},null,null,{"$f":"A34","v":"Marissa Tolsma"},null,{"$f":"'Standen Programma'!B58","v":"Albert van Urk"},null,null,{"$f":"F34","v":"Albert van Urk"},null,{"$f":"'Standen Programma'!B59","v":"Iko van Elburg"},null,null,{"$f":"K34","v":"Iko van Elburg"}]
[{"$f":"K13","v":"Klasse B"},{"$f":"'Standen Programma'!C35","v":69},null,null,null,{"$f":"'Standen Programma'!B56","v":"Klasse C"},{"$f":"'Standen Programma'!C58","v":48},null,null,null,{"$f":"F35","v":"Klasse C"},{"$f":"'Standen Programma'!C59","v":51}]
[{"$f":"K14","v":"Sjoelen Vak C"},null,null,null,null,"Jureren Vak F",null,null,null,null,{"$f":"F36","v":"Jureren Vak F"}]
[null,{"$f":"'Standen Programma'!D35","v":681},null,null,{"$f":"B37","v":681},null,{"$f":"'Standen Programma'!D58","v":699},null,null,{"$f":"G37","v":699},null,{"$f":"'Standen Programma'!D59","v":697},null,null,{"$f":"L37","v":697}]
["Bak","Score",null,"Bak","Score","Bak","Score",null,"Bak","Score","Bak","Score",null,"Bak","Score"]
[]
[]
[]
[]
[]
["Totaal",null,null,"Totaal",null,"Totaal",null,null,"Totaal",null,"Totaal",null,null,"Totaal"]
[{"$f":"'Standen Programma'!B60","v":"Henk Veldman"},null,null,{"$f":"A45","v":"Henk Veldman"},null,{"$f":"'Standen Programma'!B61","v":"Ronnie Zwiers"},null,null,{"$f":"F45","v":"Ronnie Zwiers"},null,{"$f":"'Standen Programma'!B62","v":"Gert Loch"},null,null,{"$f":"K45","v":"Gert Loch"}]
[{"$f":"F35","v":"Klasse C"},{"$f":"'Standen Programma'!C60","v":29},null,null,null,{"$f":"F35","v":"Klasse C"},{"$f":"'Standen Programma'!C61","v":61},null,null,null,{"$f":"F35","v":"Klasse C"},{"$f":"'Standen Programma'!C62","v":37}]
[{"$f":"F36","v":"Jureren Vak F"},null,null,null,null,{"$f":"F36","v":"Jureren Vak F"},null,null,null,null,{"$f":"F36","v":"Jureren Vak F"}]
[null,{"$f":"'Standen Programma'!D60","v":691},null,null,{"$f":"B48","v":691},null,{"$f":"'Standen Programma'!D61","v":684},null,null,{"$f":"G48","v":684},null,{"$f":"'Standen Programma'!D62","v":682},null,null,{"$f":"L48","v":682}]
["Bak","Score",null,"Bak","Score","Bak","Score",null,"Bak","Score","Bak","Score",null,"Bak","Score"]
[]
[]
[]
[]
[]
["Totaal",null,null,"Totaal",null,"Totaal",null,null,"Totaal",null,"Totaal",null,null,"Totaal"]
[{"$f":"'Standen Programma'!B85","v":"Henk Ruitenberg"},null,null,{"$f":"A56","v":"Henk Ruitenberg"},null,{"$f":"'Standen Programma'!B86","v":"Lammert Kiers"},null,null,{"$f":"F56","v":"Lammert Kiers"},null,{"$f":"'Standen Programma'!B87","v":"Jaap Ploeger"},null,null,{"$f":"K56","v":"Jaap Ploeger"}]
[{"$f":"'Standen Programma'!B83","v":"Klasse D"},{"$f":"'Standen Programma'!C85","v":35},null,null,null,{"$f":"A57","v":"Klasse D"},{"$f":"'Standen Programma'!C86","v":32},null,null,null,{"$f":"A57","v":"Klasse D"},{"$f":"'Standen Programma'!C87","v":49}]
["Sjoelen Vak F",null,null,null,null,{"$f":"A58","v":"Sjoelen Vak F"},null,null,null,null,{"$f":"A58","v":"Sjoelen Vak F"}]
[null,{"$f":"'Standen Programma'!D85","v":681},null,null,{"$f":"B59","v":681},null,{"$f":"'Standen Programma'!D86","v":690},null,null,{"$f":"G59","v":690},null,{"$f":"'Standen Programma'!D87","v":668},null,null,{"$f":"L59","v":668}]
["Bak","Score",null,"Bak","Score","Bak","Score",null,"Bak","Score","Bak","Score",null,"Bak","Score"]
[]
[]
[]
[]
[]
["Totaal",null,null,"Totaal",null,"Totaal",null,null,"Totaal",null,"Totaal",null,null,"Totaal"]
[{"$f":"'Standen Programma'!B88","v":"Hennie Kiers"},null,null,{"$f":"A67","v":"Hennie Kiers"},null,{"$f":"'Standen Programma'!B89","v":"Henk Depenbrock"},null,null,{"$f":"F67","v":"Henk Depenbrock"},null,{"$f":"'Standen Programma'!B112","v":"Herman Brokelman"},null,null,{"$f":"K67","v":"Herman Brokelman"}]
[{"$f":"A57","v":"Klasse D"},{"$f":"'Standen Programma'!C88","v":33},null,null,null,{"$f":"A57","v":"Klasse D"},{"$f":"'Standen Programma'!C89","v":41},null,null,null,{"$f":"'Standen Programma'!B110","v":"Klasse E"},{"$f":"'Standen Programma'!C112","v":59}]
[{"$f":"A58","v":"Sjoelen Vak F"},null,null,null,null,{"$f":"A58","v":"Sjoelen Vak F"},null,null,null,null,"Jureren Vak A"]
[null,{"$f":"'Standen Programma'!D88","v":614},null,null,{"$f":"B70","v":614},null,{"$f":"'Standen Programma'!D89","v":602},null,null,{"$f":"G70","v":602},null,{"$f":"'Standen Programma'!D112","v":670},null,null,{"$f":"L70","v":670}]
["Bak","Score",null,"Bak","Score","Bak","Score",null,"Bak","Score","Bak","Score",null,"Bak","Score"]
[]
[]
[]
[]
[]
["Totaal",null,null,"Totaal",null,"Totaal",null,null,"Totaal",null,"Totaal",null,null,"Totaal"]
[{"$f":"'Standen Programma'!B113","v":"Jacob Strating"},null,null,{"$f":"A78","v":"Jacob Strating"},null,{"$f":"'Standen Programma'!B114","v":"Jan Zwiers"},null,null,{"$f":"F78","v":"Jan Zwiers"},null,{"$f":"'Standen Programma'!B115","v":"Jan van der Sleen"},null,null,{"$f":"K78","v":"Jan van der Sleen"}]
[{"$f":"K68","v":"Klasse E"},{"$f":"'Standen Programma'!C113","v":7},null,null,null,{"$f":"K68","v":"Klasse E"},{"$f":"'Standen Programma'!C114","v":3},null,null,null,{"$f":"K68","v":"Klasse E"},{"$f":"'Standen Programma'!C115","v":5}]
[{"$f":"K69","v":"Jureren Vak A"},null,null,null,null,{"$f":"K69","v":"Jureren Vak A"},null,null,null,null,{"$f":"K69","v":"Jureren Vak A"}]
[null,{"$f":"'Standen Programma'!D113","v":680},null,null,{"$f":"B81","v":680},null,{"$f":"'Standen Programma'!D114","v":659},null,null,{"$f":"G81","v":659},null,{"$f":"'Standen Programma'!D115","v":665},null,null,{"$f":"L81","v":665}]
["Bak","Score",null,"Bak","Score","Bak","Score",null,"Bak","Score","Bak","Score",null,"Bak","Score"]
[]
[]
[]
[]
[]
["Totaal",null,null,"Totaal",null,"Totaal",null,null,"Totaal",null,"Totaal",null,null,"Totaal"]
[{"$f":"'Standen Programma'!B116","v":"Fred Heijerman"},null,null,{"$f":"A89","v":"Fred Heijerman"},null,{"$f":"'Standen Programma'!B139","v":"Clemense Bekhof"},null,null,{"$f":"F89","v":"Clemense Bekhof"},null,{"$f":"'Standen Programma'!B140","v":"Janny Beens"},null,null,{"$f":"K89","v":"Janny Beens"}]
[{"$f":"K68","v":"Klasse E"},{"$f":"'Standen Programma'!C116","v":6},null,null,null,{"$f":"'Standen Programma'!B137","v":"Klasse F"},{"$f":"'Standen Programma'!C139","v":22},null,null,null,{"$f":"F90","v":"Klasse F"},{"$f":"'Standen Programma'!C140","v":19}]
[{"$f":"K69","v":"Jureren Vak A"},null,null,null,null,"Sjoelen Vak A",null,null,null,null,{"$f":"F91","v":"Sjoelen Vak A"}]
[null,{"$f":"'Standen Programma'!D116","v":653},null,null,{"$f":"B92","v":653},null,{"$f":"'Standen Programma'!D139","v":655},null,null,{"$f":"G92","v":655},null,{"$f":"'Standen Programma'!D140","v":609},null,null,{"$f":"L92","v":609}]
["Bak","Score",null,"Bak","Score","Bak","Score",null,"Bak","Score","Bak","Score",null,"Bak","Score"]
[]
[]
[]
[]
[]
["Totaal",null,null,"Totaal",null,"Totaal",null,null,"Totaal",null,"Totaal",null,null,"Totaal"]
[{"$f":"'Standen Programma'!B141","v":"Jansje Kornet"},null,null,{"$f":"A100","v":"Jansje Kornet"},null,{"$f":"'Standen Programma'!B142","v":"Rinsje Boskamp"},null,null,{"$f":"F100","v":"Rinsje Boskamp"},null,{"$f":"'Standen Programma'!B143","v":"Tiny Ploeger"},null,null,{"$f":"K100","v":"Tiny Ploeger"}]
[{"$f":"F90","v":"Klasse F"},{"$f":"'Standen Programma'!C141","v":16},null,null,null,{"$f":"F90","v":"Klasse F"},{"$f":"'Standen Programma'!C142","v":12},null,null,null,{"$f":"F90","v":"Klasse F"},{"$f":"'Standen Programma'!C143","v":50}]
[{"$f":"F91","v":"Sjoelen Vak A"},null,null,null,null,{"$f":"F91","v":"Sjoelen Vak A"},null,null,null,null,{"$f":"F91","v":"Sjoelen Vak A"}]
[null,{"$f":"'Standen Programma'!D141","v":595},null,null,{"$f":"B103","v":595},null,{"$f":"'Standen Programma'!D142","v":567},null,null,{"$f":"G103","v":567},null,{"$f":"'Standen Programma'!D143","v":424},null,null,{"$f":"L103","v":424}]
["Bak","Score",null,"Bak","Score","Bak","Score",null,"Bak","Score","Bak","Score",null,"Bak","Score"]
[]
[]
[]
[]
[]
["Totaal",null,null,"Totaal",null,"Totaal",null,null,"Totaal",null,"Totaal",null,null,"Totaal"]
[{"$f":"'Standen Programma'!B166","v":"Dinie Sempel"},null,null,{"$f":"A111","v":"Dinie Sempel"},null,{"$f":"'Standen Programma'!B167","v":"Henk Oostenbrink"},null,null,{"$f":"F111","v":"Henk Oostenbrink"},null,{"$f":"'Standen Programma'!B168","v":"Peter de Vries"},null,null,{"$f":"K111","v":"Peter de Vries"}]
[{"$f":"'Standen Programma'!B164","v":"Klasse G"},{"$f":"'Standen Programma'!C166","v":1},null,null,null,{"$f":"A112","v":"Klasse G"},{"$f":"'Standen Programma'!C167","v":25},null,null,null,{"$f":"A112","v":"Klasse G"},{"$f":"'Standen Programma'!C168","v":2}]
["Jureren Vak D",null,null,null,null,{"$f":"A113","v":"Jureren Vak D"},null,null,null,null,{"$f":"A113","v":"Jureren Vak D"}]
[null,{"$f":"'Standen Programma'!D166","v":621},null,null,{"$f":"B114","v":621},null,{"$f":"'Standen Programma'!D167","v":630},null,null,{"$f":"G114","v":630},null,{"$f":"'Standen Programma'!D168","v":625},null,null,{"$f":"L114","v":625}]
["Bak","Score",null,"Bak","Score","Bak","Score",null,"Bak","Score","Bak","Score",null,"Bak","Score"]
[]
[]
[]
[]
[]
["Totaal",null,null,"Totaal",null,"Totaal",null,null,"Totaal",null,"Totaal",null,null,"Totaal"]
[{"$f":"'Standen Programma'!B169","v":"Tineke Gort"},null,null,{"$f":"A122","v":"Tineke Gort"},null,{"$f":"'Standen Programma'!B170","v":0},null,null,{"$f":"F122","v":0},null,{"$f":"'Standen Programma'!B184","v":"D.J. Welleweerd"},null,null,{"$f":"K122","v":"D.J. Welleweerd"}]
[{"$f":"A112","v":"Klasse G"},{"$f":"'Standen Programma'!C169","v":47},null,null,null,{"$f":"A123","v":"Klasse G"},{"$f":"'Standen Programma'!C170","v":0},null,null,null,{"$f":"'Standen Programma'!B182","v":"Klasse H"},{"$f":"'Standen Programma'!C184","v":53}]
[{"$f":"A113","v":"Jureren Vak D"},null,null,null,null,{"$f":"A124","v":"Jureren Vak D"},null,null,null,null,"Sjoelen Vak D"]
[null,{"$f":"'Standen Programma'!D169","v":596},null,null,{"$f":"B125","v":596},null,{"$f":"'Standen Programma'!D170","v":0},null,null,{"$f":"G125","v":0},null,{"$f":"'Standen Programma'!D184","v":623},null,null,{"$f":"L125","v":623}]
["Bak","Score",null,"Bak","Score","Bak","Score",null,"Bak","Score","Bak","Score",null,"Bak","Score"]
[]
[]
[]
[]
[]
["Totaal",null,null,"Totaal",null,"Totaal",null,null,"Totaal",null,"Totaal",null,null,"Totaal"]
[{"$f":"'Standen Programma'!B185","v":"Bert Batenburg"},null,null,{"$f":"A133","v":"Bert Batenburg"},null,{"$f":"'Standen Programma'!B186","v":"Gerben Koppelman"},null,null,{"$f":"F133","v":"Gerben Koppelman"},null,{"$f":"'Standen Programma'!B187","v":"Harry de Gunst"},null,null,{"$f":"K133","v":"Harry de Gunst"}]
[{"$f":"K123","v":"Klasse H"},{"$f":"'Standen Programma'!C185","v":24},null,null,null,{"$f":"K123","v":"Klasse H"},{"$f":"'Standen Programma'!C186","v":43},null,null,null,{"$f":"K123","v":"Klasse H"},{"$f":"'Standen Programma'!C187","v":36}]
[{"$f":"K124","v":"Sjoelen Vak D"},null,null,null,null,{"$f":"K124","v":"Sjoelen Vak D"},null,null,null,null,{"$f":"K124","v":"Sjoelen Vak D"}]
[null,{"$f":"'Standen Programma'!D185","v":601},null,null,{"$f":"'Standen Programma'!D186","v":588},null,{"$f":"'Standen Programma'!D186","v":588},null,null,{"$f":"G136","v":588},null,{"$f":"'Standen Programma'!D187","v":601},null,null,{"$f":"L136","v":601}]
["Bak","Score",null,"Bak","Score","Bak","Score",null,"Bak","Score","Bak","Score",null,"Bak","Score"]
[]
[]
[]
[]
[]
["Totaal",null,null,"Totaal",null,"Totaal",null,null,"Totaal",null,"Totaal",null,null,"Totaal"]
[{"$f":"'Standen Programma'!B188","v":"Diana Krause"},null,null,{"$f":"A144","v":"Diana Krause"},null,{"$f":"'Standen Programma'!B202","v":"Adriana van de Zande"},null,null,{"$f":"F144","v":"Adriana van de Zande"},null,{"$f":"'Standen Programma'!B203","v":"Roelie Bijlsma"},null,null,{"$f":"K144","v":"Roelie Bijlsma"}]
[{"$f":"K123","v":"Klasse H"},{"$f":"'Standen Programma'!C188","v":18},null,null,null,{"$f":"'Standen Programma'!B200","v":"Klasse I"},{"$f":"'Standen Programma'!C202","v":10},null,null,null,{"$f":"F145","v":"Klasse I"},{"$f":"'Standen Programma'!C203","v":23}]
[{"$f":"K124","v":"Sjoelen Vak D"},null,null,null,null,"Jureren Vak B",null,null,null,null,{"$f":"F146","v":"Jureren Vak B"}]
[null,{"$f":"'Standen Programma'!D188","v":592},null,null,{"$f":"B147","v":592},null,{"$f":"'Standen Programma'!D202","v":607},null,null,{"$f":"G147","v":607},null,{"$f":"'Standen Programma'!D203","v":588},null,null,{"$f":"L147","v":588}]
["Bak","Score",null,"Bak","Score","Bak","Score",null,"Bak","Score","Bak","Score",null,"Bak","Score"]
[]
[]
[]
[]
[]
["Totaal",null,null,"Totaal",null,"Totaal",null,null,"Totaal",null,"Totaal",null,null,"Totaal"]
[{"$f":"'Standen Programma'!B204","v":"Betty Koppelman"},null,null,{"$f":"A155","v":"Betty Koppelman"},null,{"$f":"'Standen Programma'!B205","v":"Ge Oostenbrink"},null,null,{"$f":"F155","v":"Ge Oostenbrink"},null,{"$f":"'Standen Programma'!B206","v":"Leny van de Vliet"},null,null,{"$f":"K155","v":"Leny van de Vliet"}]
[{"$f":"F145","v":"Klasse I"},{"$f":"'Standen Programma'!C204","v":42},null,null,null,{"$f":"F145","v":"Klasse I"},{"$f":"'Standen Programma'!C205","v":26},null,null,null,{"$f":"F145","v":"Klasse I"},{"$f":"'Standen Programma'!C206","v":4}]
[{"$f":"F146","v":"Jureren Vak B"},null,null,null,null,{"$f":"F146","v":"Jureren Vak B"},null,null,null,null,{"$f":"F146","v":"Jureren Vak B"}]
[null,{"$f":"'Standen Programma'!D204","v":564},null,null,{"$f":"B158","v":564},null,{"$f":"'Standen Programma'!D205","v":573},null,null,{"$f":"G158","v":573},null,{"$f":"'Standen Programma'!D206","v":550},null,null,{"$f":"L158","v":550}]
["Bak","Score",null,"Bak","Score","Bak","Score",null,"Bak","Score","Bak","Score",null,"Bak","Score"]
[]
[]
[]
[]
[]
["Totaal",null,null,"Totaal",null,"Totaal",null,null,"Totaal",null,"Totaal",null,null,"Totaal"]
[{"$f":"'Standen Programma'!B220","v":"Leo Koppelman"},null,null,{"$f":"A166","v":"Leo Koppelman"},null,{"$f":"'Standen Programma'!B221","v":0},null,null,{"$f":"F166","v":0},null,{"$f":"'Standen Programma'!B222","v":0},null,null,{"$f":"K166","v":0}]
[{"$f":"'Standen Programma'!B218","v":"Klasse J"},{"$f":"'Standen Programma'!C220","v":15},null,null,null,{"$f":"A167","v":"Klasse J"},{"$f":"'Standen Programma'!C221","v":0},null,null,null,{"$f":"A167","v":"Klasse J"},{"$f":"'Standen Programma'!C222","v":0}]
["Sjoelen Vak B",null,null,null,null,{"$f":"A168","v":"Sjoelen Vak B"},null,null,null,null,{"$f":"A168","v":"Sjoelen Vak B"}]
[null,{"$f":"'Standen Programma'!D220","v":499},null,null,{"$f":"B169","v":499},null,{"$f":"'Standen Programma'!D221","v":0},null,null,{"$f":"G169","v":0},null,{"$f":"'Standen Programma'!D222","v":0},null,null,{"$f":"L169","v":0}]
["Bak","Score",null,"Bak","Score","Bak","Score",null,"Bak","Score","Bak","Score",null,"Bak","Score"]
[]
[]
[]
[]
[]
["Totaal",null,null,"Totaal",null,"Totaal",null,null,"Totaal",null,"Totaal",null,null,"Totaal"]
[{"$f":"'Standen Programma'!B223","v":0},null,null,{"$f":"A177","v":0},null,{"$f":"'Standen Programma'!B224","v":0},null,null,{"$f":"F177","v":0},null,{"$f":"'Standen Programma'!B235","v":"Jorn Tolsma"},null,null,{"$f":"K177","v":"Jorn Tolsma"}]
[{"$f":"A167","v":"Klasse J"},{"$f":"'Standen Programma'!C223","v":0},null,null,null,{"$f":"A167","v":"Klasse J"},{"$f":"'Standen Programma'!C224","v":0},null,null,null,{"$f":"'Standen Programma'!B233","v":"Jeugd "},{"$f":"'Standen Programma'!C235","v":71}]
[{"$f":"A168","v":"Sjoelen Vak B"},null,null,null,null,{"$f":"A168","v":"Sjoelen Vak B"},null,null,null,null,"Jureren Vak E"]
[null,{"$f":"'Standen Programma'!D223","v":0},null,null,{"$f":"B180","v":0},null,{"$f":"'Standen Programma'!D224","v":0},null,null,{"$f":"G180","v":0},null,{"$f":"'Standen Programma'!D235","v":530},null,null,{"$f":"L180","v":530}]
["Bak","Score",null,"Bak","Score","Bak","Score",null,"Bak","Score","Bak","Score",null,"Bak","Score"]
[]
[]
[]
[]
[]
["Totaal",null,null,"Totaal",null,"Totaal",null,null,"Totaal",null,"Totaal",null,null,"Totaal"]
[{"$f":"'Standen Programma'!B236","v":"Matz Verlaan"},null,null,{"$f":"A188","v":"Matz Verlaan"},null,{"$f":"'Standen Programma'!B237","v":"Jonathan Verlaan"},null,null,{"$f":"F188","v":"Jonathan Verlaan"},null,{"$f":"'Standen Programma'!B238","v":0},null,null,{"$f":"K188","v":0}]
[{"$f":"K178","v":"Jeugd "},{"$f":"'Standen Programma'!C236","v":64},null,null,null,{"$f":"K178","v":"Jeugd "},{"$f":"'Standen Programma'!C237","v":65},null,null,null,{"$f":"K178","v":"Jeugd "},{"$f":"'Standen Programma'!C238","v":0}]
[{"$f":"K179","v":"Jureren Vak E"},null,null,null,null,{"$f":"K179","v":"Jureren Vak E"},null,null,null,null,{"$f":"K179","v":"Jureren Vak E"}]
[null,{"$f":"'Standen Programma'!D236","v":468},null,null,{"$f":"B191","v":468},null,{"$f":"'Standen Programma'!D237","v":437},null,null,{"$f":"G191","v":437},null,{"$f":"'Standen Programma'!D238","v":0},null,null,{"$f":"L191","v":0}]
["Bak","Score",null,"Bak","Score","Bak","Score",null,"Bak","Score","Bak","Score",null,"Bak","Score"]
[]
[]
[]
[]
[]
["Totaal",null,null,"Totaal",null,"Totaal",null,null,"Totaal",null,"Totaal",null,null,"Totaal"]
[{"$f":"'Standen Programma'!B239","v":0},null,null,{"$f":"A199","v":0},null,{"$f":"'Standen Programma'!B246","v":"Elly Nijland"},null,null,{"$f":"F199","v":"Elly Nijland"},null,{"$f":"'Standen Programma'!B247","v":"Anny Hakkers"},null,null,{"$f":"K199","v":"Anny Hakkers"}]
[{"$f":"K178","v":"Jeugd "},{"$f":"'Standen Programma'!C239","v":0},null,null,null,{"$f":"'Standen Programma'!B244","v":0},{"$f":"'Standen Programma'!C246","v":67},null,null,null,{"$f":"F200","v":0},{"$f":"'Standen Programma'!C247","v":66}]
[{"$f":"K179","v":"Jureren Vak E"},null,null,null,null,"Sjoelen Vak E",null,null,null,null,{"$f":"F201","v":"Sjoelen Vak E"}]
[null,{"$f":"'Standen Programma'!D239","v":0},null,null,{"$f":"B202","v":0},null,{"$f":"'Standen Programma'!D246","v":620},null,null,{"$f":"G202","v":620},null,{"$f":"'Standen Programma'!D247","v":588},null,null,{"$f":"L202","v":588}]
["Bak","Score",null,"Bak","Score","Bak","Score",null,"Bak","Score","Bak","Score",null,"Bak","Score"]
[]
[]
[]
[]
[]
["Totaal",null,null,"Totaal",null,"Totaal",null,null,"Totaal",null,"Totaal",null,null,"Totaal"]
[{"$f":"'Standen Programma'!B248","v":"Annelijn Tolsma"},null,null,{"$f":"A210","v":"Annelijn Tolsma"},null,{"$f":"'Standen Programma'!B249","v":"Kevin Nijland"},null,null,{"$f":"F210","v":"Kevin Nijland"},null,{"$f":"'Standen Programma'!B250","v":0},null,null,{"$f":"K210","v":0}]
[{"$f":"F200","v":0},{"$f":"'Standen Programma'!C248","v":70},null,null,null,{"$f":"F200","v":0},{"$f":"'Standen Programma'!C249","v":68},null,null,null,{"$f":"F200","v":0},{"$f":"'Standen Programma'!C250","v":0}]
[{"$f":"F201","v":"Sjoelen Vak E"},null,null,null,null,{"$f":"F201","v":"Sjoelen Vak E"},null,null,null,null,{"$f":"F201","v":"Sjoelen Vak E"}]
[null,{"$f":"'Standen Programma'!D248","v":499},null,null,{"$f":"B213","v":499},null,{"$f":"'Standen Programma'!D249","v":335},null,null,{"$f":"G213","v":335},null,{"$f":"'Standen Programma'!D250","v":0},null,null,{"$f":"L213","v":0}]
["Bak","Score",null,"Bak","Score","Bak","Score",null,"Bak","Score","Bak","Score",null,"Bak","Score"]
[]
[]
[]
[]
[]
["Totaal",null,null,"Totaal",null,"Totaal",null,null,"Totaal",null,"Totaal",null,null,"Totaal"]